BEGIN:VCALENDAR
VERSION:2.0
PRODID:-//Nicas En El Exterior News - ABRIL 2026 - ECPv6.15.17.1//NONSGML v1.0//EN
CALSCALE:GREGORIAN
METHOD:PUBLISH
X-WR-CALNAME:Nicas En El Exterior News - ABRIL 2026
X-ORIGINAL-URL:https://nicasnews.com
X-WR-CALDESC:Events for Nicas En El Exterior News - ABRIL 2026
REFRESH-INTERVAL;VALUE=DURATION:PT1H
X-Robots-Tag:noindex
X-PUBLISHED-TTL:PT1H
BEGIN:VTIMEZONE
TZID:America/New_York
BEGIN:DAYLIGHT
TZOFFSETFROM:-0500
TZOFFSETTO:-0400
TZNAME:EDT
DTSTART:20160313T070000
END:DAYLIGHT
BEGIN:STANDARD
TZOFFSETFROM:-0400
TZOFFSETTO:-0500
TZNAME:EST
DTSTART:20161106T060000
END:STANDARD
BEGIN:DAYLIGHT
TZOFFSETFROM:-0500
TZOFFSETTO:-0400
TZNAME:EDT
DTSTART:20170312T070000
END:DAYLIGHT
BEGIN:STANDARD
TZOFFSETFROM:-0400
TZOFFSETTO:-0500
TZNAME:EST
DTSTART:20171105T060000
END:STANDARD
BEGIN:DAYLIGHT
TZOFFSETFROM:-0500
TZOFFSETTO:-0400
TZNAME:EDT
DTSTART:20180311T070000
END:DAYLIGHT
BEGIN:STANDARD
TZOFFSETFROM:-0400
TZOFFSETTO:-0500
TZNAME:EST
DTSTART:20181104T060000
END:STANDARD
BEGIN:DAYLIGHT
TZOFFSETFROM:-0500
TZOFFSETTO:-0400
TZNAME:EDT
DTSTART:20190310T070000
END:DAYLIGHT
BEGIN:STANDARD
TZOFFSETFROM:-0400
TZOFFSETTO:-0500
TZNAME:EST
DTSTART:20191103T060000
END:STANDARD
BEGIN:DAYLIGHT
TZOFFSETFROM:-0500
TZOFFSETTO:-0400
TZNAME:EDT
DTSTART:20200308T070000
END:DAYLIGHT
BEGIN:STANDARD
TZOFFSETFROM:-0400
TZOFFSETTO:-0500
TZNAME:EST
DTSTART:20201101T060000
END:STANDARD
END:VTIMEZONE
BEGIN:VTIMEZONE
TZID:America/Los_Angeles
BEGIN:DAYLIGHT
TZOFFSETFROM:-0800
TZOFFSETTO:-0700
TZNAME:PDT
DTSTART:20170312T100000
END:DAYLIGHT
BEGIN:STANDARD
TZOFFSETFROM:-0700
TZOFFSETTO:-0800
TZNAME:PST
DTSTART:20171105T090000
END:STANDARD
BEGIN:DAYLIGHT
TZOFFSETFROM:-0800
TZOFFSETTO:-0700
TZNAME:PDT
DTSTART:20180311T100000
END:DAYLIGHT
BEGIN:STANDARD
TZOFFSETFROM:-0700
TZOFFSETTO:-0800
TZNAME:PST
DTSTART:20181104T090000
END:STANDARD
BEGIN:DAYLIGHT
TZOFFSETFROM:-0800
TZOFFSETTO:-0700
TZNAME:PDT
DTSTART:20190310T100000
END:DAYLIGHT
BEGIN:STANDARD
TZOFFSETFROM:-0700
TZOFFSETTO:-0800
TZNAME:PST
DTSTART:20191103T090000
END:STANDARD
END:VTIMEZONE
BEGIN:VEVENT
DTSTART;TZID=America/New_York:20190419T173000
DTEND;TZID=America/New_York:20190419T220000
DTSTAMP:20260424T130833
CREATED:20190412T190026Z
LAST-MODIFIED:20190419T040616Z
UID:51682-1555695000-1555711200@nicasnews.com
SUMMARY:Marcha De Las Cruces - Miami\, Florida
DESCRIPTION:  \n \n  \n 
URL:https://nicasnews.com/event/marcha-de-las-cruces-miami-florida/
LOCATION:Miami Dade College – Interamerican Campus\, 2699 SW 6th Street\, Miami\, FL\, 33135\, United States
CATEGORIES:2019,Comunitario,Estados Unidos de América,EVENTOS,Miami,Político
ATTACH;FMTTYPE=image/jpeg:https://nicasnews.com/wp-content/uploads/2019/04/20190419.jpg
END:VEVENT
BEGIN:VEVENT
DTSTART;TZID=America/New_York:20181108T190000
DTEND;TZID=America/New_York:20181108T210000
DTSTAMP:20260424T130833
CREATED:20181101T190022Z
LAST-MODIFIED:20181109T092537Z
UID:49059-1541703600-1541710800@nicasnews.com
SUMMARY:Foro Asociación Nicaragüense Pro-Derechos Humanos (ANPDH) en Miami\, Florida
DESCRIPTION:Foro Asociación Nicaragüense Pro-Derechos Humanos (ANPDH) en Miami\, Florida\n  \nDr. Álvaro Leiva\, Secretario de la Asociación Nicaragüense Pro Derechos Humanos nos dará su último informe acerca de los atropellos a los Derechos Humanos en Nicaragua departe del régimen Ortega-Murillo. \n \n  \n 
URL:https://nicasnews.com/event/foro-asociacion-nicaraguense-pro-derechos-humanos-anpdh-en-miami-florida/
LOCATION:Fiesta Palace Banquet Hall\, 155 SW 107th Avenue\, Miami\, FL\, 33174\, United States
CATEGORIES:2018,Comunitario,EVENTOS,Miami,Político
ATTACH;FMTTYPE=image/jpeg:https://nicasnews.com/wp-content/uploads/2018/11/20181108.jpg
ORGANIZER;CN="Juntos Somos Un Volc%C3%A1n":MAILTO:contacto@juntossomosunvolcan.org
END:VEVENT
BEGIN:VEVENT
DTSTART;VALUE=DATE:20180630
DTEND;VALUE=DATE:20180701
DTSTAMP:20260424T130833
CREATED:20180625T190011Z
LAST-MODIFIED:20180630T101317Z
UID:47123-1530316800-1530403199@nicasnews.com
SUMMARY:SOS NICARAGUA - Vigilia Mundial en Honor a las Víctimas en Nicaragua (30/Junio/2018) [Listado de Ciudades Completo]
DESCRIPTION:  \n \n  \n 
URL:https://nicasnews.com/event/sos-nicaragua-vigilia-mundial-en-honor-a-las-victimas-en-nicaragua-30junio2018-listado-de-ciudades-completo/
LOCATION:FL
CATEGORIES:2018,Comunitario,Estados Unidos de América,EVENTOS,Los Angeles,Managua,Miami,San Francisco
ATTACH;FMTTYPE=image/jpeg:https://nicasnews.com/wp-content/uploads/2018/06/20180630.jpg
ORGANIZER;CN="SOS Nicaragua":MAILTO:comitesosnicaragua@gmail.com
END:VEVENT
BEGIN:VEVENT
DTSTART;TZID=America/New_York:20170319T090000
DTEND;TZID=America/New_York:20170319T170000
DTSTAMP:20260424T130833
CREATED:20170201T200018Z
LAST-MODIFIED:20170228T053544Z
UID:38181-1489914000-1489942800@nicasnews.com
SUMMARY:Teletón-Nicaragua en Miami
DESCRIPTION:19 de Marzo de 2017. \nNuevamente! Estamos haciendo una actividad para recaudar fondos para el Teletón-Nicaragua en Miami. \nHola a todos mis amigos! A llegado el momento de unirnos para una misma causa! Los invito a todos a esta actividad a beneficio de el Teletón-Nicaragua! \nEste año hemos preparado muchas actividades especiales! Habrán bailes\, mímicas\, y pasarela de modelaje!\nEl cover será de $10 e incluye una camiseta de el Teleton.\nTendremos comida\, repostería y bebidas así que traigan efectivo 💰. \nSi no puede asistir pero quiere mandar su donación\, por favor póngase en contacto:\nMelissa Callejas – 305-803-6581\nMyriam Casco -786 800-7773\nRossy – 786-547-5174 \nFACEBOOK:\nhttps://www.facebook.com/teletonnicausa/ \nDONACIÓN:\nhttps://www.paypal.me/teletonnicausa \n  \n \n  \nMisión\nSomos una organización que promueve entre los nicaragüenses la solidaridad y la unidad para la rehabilitación integral e inclusión social de los niños\, niñas\, y jóvenes con discapacidad y sus familias\, a través de la recaudación de fondos\, alianzas estratégicas\, desarrollo de campañas permanentes de sensibilización y educación a la sociedad y el desarrollo de proyectos y programas de inversión social. \nVisión\nSer el referente idóneo para la canalización de la solidaridad y responsabilidad social de los nicaragüenses en apoyo a los derechos de la niñez y juventud con discapacidad\, mediante el desarrollo de una organización de emprendimiento social\, destacada por la transparencia y eficiencia en el uso de los fondos\, que recaudamos para tal apoyo. \n  \n 
URL:https://nicasnews.com/event/teleton-nicaragua-en-miami/
LOCATION:Parque Rubén Darío\, 9825 W Flagler St\, Miami\, FL\, 33174\, United States
CATEGORIES:2017,Estados Unidos de América,EVENTOS,Filántropo,Miami
ATTACH;FMTTYPE=image/jpeg:https://nicasnews.com/wp-content/uploads/2017/02/20170319.jpg
ORGANIZER;CN="Telet%C3%B3n Nicaragua":MAILTO:yoapoyo@teleton.org.ni
END:VEVENT
END:VCALENDAR