BEGIN:VCALENDAR
VERSION:2.0
PRODID:-//Nicas En El Exterior News - ABRIL 2026 - ECPv6.15.17.1//NONSGML v1.0//EN
CALSCALE:GREGORIAN
METHOD:PUBLISH
X-WR-CALNAME:Nicas En El Exterior News - ABRIL 2026
X-ORIGINAL-URL:https://nicasnews.com
X-WR-CALDESC:Events for Nicas En El Exterior News - ABRIL 2026
REFRESH-INTERVAL;VALUE=DURATION:PT1H
X-Robots-Tag:noindex
X-PUBLISHED-TTL:PT1H
BEGIN:VTIMEZONE
TZID:America/Managua
BEGIN:STANDARD
TZOFFSETFROM:-0600
TZOFFSETTO:-0600
TZNAME:CST
DTSTART:20160101T000000
END:STANDARD
END:VTIMEZONE
BEGIN:VEVENT
DTSTART;TZID=America/Managua:20170126T080000
DTEND;TZID=America/Managua:20170507T170000
DTSTAMP:20260421T210759
CREATED:20170126T200015Z
LAST-MODIFIED:20170130T095109Z
UID:36877-1485417600-1494176400@nicasnews.com
SUMMARY:Exposición de Goya y Dalí en León
DESCRIPTION:Exposición de Goya y Dalí\n26 de Enero al 7 de Mayo del 2017. \nEl Centro de Arte de la Fundación Ortiz Gurdián\, en León\, tendrá la exposición permanente “Los Caprichos de Goya y Dalí”\, una colección de 161 piezas de dos portafolios distintos\, que reúne obras del pintor español Salvador Dalí y el maestro francés Francisco de Goya y Lucientes. \nDicha exhibición en la Casa Derbyshire\, es a través de su Programa de Cultura y con el patrocinio del Grupo Promerica. \nEXHIBICIÓN PICTÓRICA\nAlberto Torres Cerrato\, director del Centro de Arte en León\, afirmó que la exposición de “Los Caprichos de Goya y Dalí”\, se convierten en la primera exhibición pictórica permanente que dicha organización cultural presenta al público\, en el primer trimestre del año. \n“Nos enorgullece\, continuar compartiendo con el público las obras de nuestra colección. En esta oportunidad se trata de ‘Los Caprichos de Goya’ intervenidos por Dalí\, una serie de ochenta estampas que Salvador Dalí realizó por encargo\, trabajando sobre la serie homónima creada por Francisco de Goya”\, explicó Torres. \nEl director del Centro de Arte en León\, explicó que Goya fue un artista crítico de los defectos de la sociedad de su tiempo\, en cambio\, Dalí fue un irreverente en cuya vida y trabajo dominó la extravagancia. La exhibición permanecerá hasta mayo. \n“Casi dos siglos después de la publicación de ‘Los Caprichos de Goya’ (1799)\, Dalí reinterpretó la colección de estampas desde la perspectiva surrealista\, invalidando toda la crítica social de estas e imprimiéndoles a las imágenes su particular estilo”\, dijo Torres\, quien agradeció al público amante del arte y la cultura nacional e internacional\, por respaldar las actividades e iniciativas del Centro de Arte en León. \n  \nREFERENCIA: El Nuevo Diario. \n  \n 
URL:https://nicasnews.com/event/exposicion-de-goya-y-dali-en-leon/
LOCATION:Centro de Arte de la Fundación Ortiz Gurdián\, Esquina opuesta de la Iglesia San Francisco\, León\, León\, Nicaragua
CATEGORIES:2017,Exhibición,León,León,Nicaragua
ATTACH;FMTTYPE=image/jpeg:https://nicasnews.com/wp-content/uploads/2017/01/20170126-2.jpg
ORGANIZER;CN="Centro de Arte de la Fundaci%C3%B3n Ortiz Gurdi%C3%A1n":MAILTO:info@fundacionortizgurdian.org
END:VEVENT
BEGIN:VEVENT
DTSTART;TZID=America/Managua:20170221T193000
DTEND;TZID=America/Managua:20170221T213000
DTSTAMP:20260421T210759
CREATED:20170201T200013Z
LAST-MODIFIED:20170220T195608Z
UID:37873-1487705400-1487712600@nicasnews.com
SUMMARY:José Luis Perales en Concierto
DESCRIPTION:José Luis Perales es un cantautor\, compositor\, productor y escritor español. Este artista que ha deleitado a generaciones y tiene una gran trayectoria en la música\, nos visita y en uno de los mejores lugares de la capital\, el Teatro Rubén Darío\, el cual goza de una acústica increíble y es el mejor lugar para vivir una noche intima entre el publico y el cantautor. \nFecha: 21 de Febrero del 2017\nHora: 7:30 PM \nLugar: Teatro Rubén Darío \nBoletos:\n– Platea y I Balcón $125\n– II Balcón $100\n– III Balcón $80 \nPuntos de Venta:\n– Tiendas AM/PM\n– Flor de Caña Boutique\n– Oficinas de BLÜ-Nicaragua \nAl comprar tu tiquet en Pre-Venta obtenes 20% de descuento\, solo tenés que enviar la palabra JOSELUIS al 500 desde tu Claro o bien usando tu tarjeta Banpro. \n 
URL:https://nicasnews.com/event/jose-luis-perales-en-concierto/
LOCATION:Teatro Nacional Rubén Darío\, Barrio Ruben Dario\, Managua\, Managua\, Nicaragua
CATEGORIES:2017,Concierto,EVENTOS,Managua,Nicaragua
ATTACH;FMTTYPE=image/jpeg:https://nicasnews.com/wp-content/uploads/2017/02/20170221.jpg
END:VEVENT
END:VCALENDAR