BEGIN:VCALENDAR
VERSION:2.0
PRODID:-//Nicas En El Exterior News - ABRIL 2026 - ECPv6.15.17.1//NONSGML v1.0//EN
CALSCALE:GREGORIAN
METHOD:PUBLISH
X-ORIGINAL-URL:https://nicasnews.com
X-WR-CALDESC:Events for Nicas En El Exterior News - ABRIL 2026
REFRESH-INTERVAL;VALUE=DURATION:PT1H
X-Robots-Tag:noindex
X-PUBLISHED-TTL:PT1H
BEGIN:VTIMEZONE
TZID:America/Managua
BEGIN:STANDARD
TZOFFSETFROM:-0600
TZOFFSETTO:-0600
TZNAME:CST
DTSTART:20160101T000000
END:STANDARD
END:VTIMEZONE
BEGIN:VEVENT
DTSTART;TZID=America/Managua:20170115T052000
DTEND;TZID=America/Managua:20170115T180000
DTSTAMP:20260421T224447
CREATED:20170101T200012Z
LAST-MODIFIED:20170107T090431Z
UID:36093-1484457600-1484503200@nicasnews.com
SUMMARY:Volcano Boarding en Cerro Negro
DESCRIPTION:  \n30 dólares es el precio de la gira y tendrás un día inolvidable y en armonía con la naturaleza. \nPara todos los amantes de la adrenalina y las aventuras extremas fuera de lo común este próximo 15 de enero se realizará una gira llamada “Volcano Boarding en Cerro Negro”. \nEl evento es organizado por la Organización Nicaragüense Ambiental con el propósito de promocionar los sitios turísticos del país y apoyar para solventar los gastos del refugio de mascotas en abandono “Casa Hogar Lucito”. \nEl paquete del viaje te incluye transporte privado desde Masaya y Managua\, parada en los quesillos\, entrada Reserva Natural\, equipo de protección\, tablas\, lentes de protección y guantes\, mochilas\, acceso a duchas\, visita a la ciudad de León\, guías locales. \nLa hora y los puntos de reunión son a las 5:20 a.m. en Casa Lucito\, Masaya\, frente al portón de emergencias del Hospital Humberto Alvarado y luego a las 6:00 a.m. en la gasolinera Puma Metrocentro. La hora de regreso es a las 6:00 de la tarde. \nLos organizadores detallaron que para reservar tu cupo debes dar un adelanto de U$15.00 dólares\, para mayor información podés llamar al +505 8589 9104 por chat\, llamada y whatsapp para la reservación. \nAnímate y conoce el volcán más joven de Centroamérica\, recordá que con tu apoyo estás ayudando a solventar los gastos del refugio de mascotas en abandono “Casa Hogar Lucito”. \n  \nREFERENCIAS: El Nuevo Diario. \n  \n 
URL:https://nicasnews.com/event/volcano-boarding-en-cerro-negro/
LOCATION:Volcán Cerro Negro\, León\, León\, Nicaragua
CATEGORIES:2017,León,Nicaragua
ATTACH;FMTTYPE=image/jpeg:https://nicasnews.com/wp-content/uploads/2017/01/20170115.jpg
ORGANIZER;CN="Organizaci%C3%B3n Nicarag%C3%BCense Ambiental (OrgaNicA)":MAILTO:orgnicamb@gmail.com
END:VEVENT
END:VCALENDAR