BEGIN:VCALENDAR
VERSION:2.0
PRODID:-//Nicas En El Exterior News - ABRIL 2026 - ECPv6.15.17.1//NONSGML v1.0//EN
CALSCALE:GREGORIAN
METHOD:PUBLISH
X-ORIGINAL-URL:https://nicasnews.com
X-WR-CALDESC:Events for Nicas En El Exterior News - ABRIL 2026
REFRESH-INTERVAL;VALUE=DURATION:PT1H
X-Robots-Tag:noindex
X-PUBLISHED-TTL:PT1H
BEGIN:VTIMEZONE
TZID:America/Managua
BEGIN:STANDARD
TZOFFSETFROM:-0600
TZOFFSETTO:-0600
TZNAME:CST
DTSTART:20150101T000000
END:STANDARD
END:VTIMEZONE
BEGIN:VEVENT
DTSTART;TZID=America/Managua:20161215T190000
DTEND;TZID=America/Managua:20161215T210000
DTSTAMP:20260422T115446
CREATED:20161101T190052Z
LAST-MODIFIED:20161123T162836Z
UID:34849-1481828400-1481835600@nicasnews.com
SUMMARY:Mercedes Benz Fashion Night 2016
DESCRIPTION:  \nEl diseñador Carlos René Cruz se reunió por primera vez junto a las jóvenes que lucen sus diseños en las fotos que serán una probadita de lo que se presentará en el evento. Cruz también mencionó que realizarán el “fitting”\, para medir las piezas de ropa en las modelos un día antes del show. \nRuth Martínez\, de 28 años\, originaria de la ciudad de Granada\, es parte del elenco de modelos que aparecerán en la sesión oficial\, ella comenta:  “Es una experiencia muy bonita\, es la primera vez que participamos en el Mercedes-Benz Fashion Night y me siento muy emocionada por desfilar esa noche”. La modelo también expresa que el proceso de preparación implica esforzarse por mantener el entrenamiento físico y una dieta balanceada\, para brillar bajo los reflectores. \nSegún Martínez\, todas las participantes deben de prepararse de antemano para saber cómo será el espacio\, en cuantas desfilarán y cómo finalizarán cada una de estas pasarelas. \nMÁS MODELOS\nSe lanzará una convocatoria para realizar un casting virtual\, invitando a las jóvenes en las redes sociales para que puedan ser parte de la pasarela junto a las demás modelos. \nEn total\, serán aproximadamente 20 modelos que desfilaran en el Mercedes Benz Fashion Night\, incluyendo a quienes se integrarán a través de la convocatoria. \nTOME NOTA\nEste evento reconocido a nivel mundial se llevará a cabo gracias a la alianza entre la organización Silhuetas y Mercedes-Benz\, esa noche participarán diseñadores nicaragüenses y extranjeros. La pasarela del Mercedes-Benz Fashion Night será en el hotel Intercontinental Metrocentro\, el 15 de diciembre a las 7:00 p.m. \nREFERENCIAS: El Nuevo Diario \n  \n 
URL:https://nicasnews.com/event/mercedes-benz-fashion-night-2016/
LOCATION:Hotel Intercontinental\, Paseo de la Unión Europea\, Managua\, Managua\, 14005\, Nicaragua
CATEGORIES:2016,Desfile,EVENTOS,Managua,Moda,Nicaragua
ATTACH;FMTTYPE=image/jpeg:https://nicasnews.com/wp-content/uploads/2016/11/20161215.jpg
ORGANIZER;CN="Silhuetas":MAILTO:silhueta@cablenet.com.ni
END:VEVENT
END:VCALENDAR