BEGIN:VCALENDAR
VERSION:2.0
PRODID:-//Nicas En El Exterior News - ABRIL 2026 - ECPv6.15.17.1//NONSGML v1.0//EN
CALSCALE:GREGORIAN
METHOD:PUBLISH
X-ORIGINAL-URL:https://nicasnews.com
X-WR-CALDESC:Events for Nicas En El Exterior News - ABRIL 2026
REFRESH-INTERVAL;VALUE=DURATION:PT1H
X-Robots-Tag:noindex
X-PUBLISHED-TTL:PT1H
BEGIN:VTIMEZONE
TZID:America/Managua
BEGIN:STANDARD
TZOFFSETFROM:-0600
TZOFFSETTO:-0600
TZNAME:CST
DTSTART:20150101T000000
END:STANDARD
END:VTIMEZONE
BEGIN:VEVENT
DTSTART;TZID=America/Managua:20160825T090000
DTEND;TZID=America/Managua:20161209T180000
DTSTAMP:20260422T103317
CREATED:20160801T190028Z
LAST-MODIFIED:20160827T130935Z
UID:30389-1472115600-1481306400@nicasnews.com
SUMMARY:Exposición “Los Caprichos” de Francisco de Goya
DESCRIPTION:El universo goyesco se toma la FOG\nExposición. La colección “Los Caprichos” de Francisco de Goya reúne un aproximado de 80 grabados que estarán expuestos ante el público nicaragüense hasta diciembre. \nPrecursor de la pintura moderna\, cuyo trabajo precede al Romanticismo\,  Impresionismo\, Expresionismo y Surrealismo\, Francisco de Goya tendrá su espacio en el centro de arte de la Fundación Ortiz Gurdián FOG con la exposición “Los Caprichos”\, la cual se inaugurá el jueves 25 de agosto y estará abierta al público hasta diciembre. \nLa obra de Francisco de Goya es inmensa. Cultivó con excelencia todas las técnicas: el dibujo\, el aguafuerte\, el aguatinta\, la litografía\, así como la acuarela\, y la pintura al fresco y al óleo. Según el caso\, recurrió a múltiples soportes: papel\, plancha de cobre\, piedra caliza\, cartón\, marfil\, mural y lienzo. Desarrolló\, asimismo\, diversidad de géneros pictóricos o temas: retrato y autorretrato\, pintura religiosa\, profana\, mitológica\, alegórica\, social\, histórica y costumbrista. \nLa obra en exhibición –Los Caprichos– revela al Goya grabador y al artista crítico de su época.  \nLos primeros grabados de Goya datan de entre 1778 y 1790\, cuando copia al aguafuerte y al aguatinta dieciséis pinturas de Diego Velázquez. \nAunque se desconoce la fecha exacta en que Goya comenzó a trabajar en la serie de “Los Caprichos”\, es posible que su origen fueran algunos de los bocetos realizados entre 1794 y 1796 en su Álbum A\, también conocido como Álbum de Sanlúcar\, y en el Álbum B o de Sanlúcar-Madrid. \nEl artista concibió inicialmente la serie de “Los Caprichos” como un conjunto de grabados que tituló Sueños\, para lo que realizó 28 dibujos preparatorios de los cuales 11 se encuentran en el Álbum B. El título que el pintor había pensado para la portada era Sueño 1º Idioma universal. Dibujado y grabado por Francisco de Goya. Año 1797. El Autor soñando. Por el título\, estas estampas posiblemente estuvieron inspiradas en la obra Sueños y discursos\, del escritor Francisco de Quevedo. \nLa serie de “Los Caprichos” es una obra que censura los vicios y las debilidades humanas con un lenguaje sarcástico y en ocasiones lleno de fantasía. Los temas de la serie se abordan de forma espontánea\, según los criterios del pintor y\, por tanto\, las estampas no tienen una estructura ni un orden específico. Sin embargo\, la primera mitad de la serie tiene un carácter realista\, mientras que en la segunda se percibe un lenguaje fantástico que\, a veces\, raya en lo absurdo. \nGoya realiza las estampas de “Los Caprichos” trabajando las planchas con aguafuerte que luego afinaba con aguatinta y por último perfeccionaba con punta seca y buril. No dibuja directamente sobre la plancha a la manera de otros artistas como Rembrandt\, sino que realiza dibujos preparatorios para casi todos los grabados. \nLa exposición “Los Caprichos” de Francisco de Goya se presenta como parte del Programa de Cultura de la Fundación Ortiz Gurdián\, con el patrocinio del Grupo Promerica. Estará abierta al público durante los meses de agosto\, septiembre\, octubre\, noviembre y diciembre –en horarios de atención– en Managua.\nEn enero 2017 la muestra se traslada al Centro de Arte Fundación Ortiz Gurdián\, León. \n  \n\n  \n  \nLos horarios de atención son de lunes a viernes\, de 9:00 a.m. a 6:00 p.m. Foto: Melvin Vargas\n  \nLa exposición “Los caprichos de Goya” ya está  abierta al público en el Centro de Arte de la Fundación Ortiz Gurdián\, un espacio para aprender y conocer más sobre la propuesta artística del español Francisco de Goya. \nLas palabras de apertura en el acto de inauguración –el jueves pasado– fueron por parte de Ramiro Norberto Ortiz Gurdián\, del Grupo Promerica\, quien dio una cálida bienvenida a los asistentes y recalcó el valor de seguir inculcando a los más pequeños el valor de las obras universales y motivarlos a desarrollar sus habilidades artísticas. \nEn estas piezas que realizó el artista español Francisco de Goya en el siglo XVII\, durante su vida adulta\, se puede apreciar caricaturas de doble sentido con una postura crítica ante el abuso del poder y están llenas de contenido social\, agregándole un valor artístico impresionante. \nTatiana Torres\, directora del Centro de Arte de la Fundación Ortiz Gurdián\, expresó que el público meta de esta exposición son los jóvenes estudiantes y el propósito de la exposición es brindarles una formación integral y que puedan contar con una cultura general amplia. \nDentro de las actividades que el centro de arte tiene programadas están las visitas guiadas de los estudiantes de secundaria del Colegio Teresiano y el Instituto del Valle con un sinnúmero de dinámicas educativas que permitan que los asistentes logren aprovechar la oportunidad de contemplar estos cuadros. \nTodo el esfuerzo de presentar al público nicaragüense estas magníficas obras del arte universal es posible gracias a Grupo Promerica.  \nEn el evento inaugural también estuvieron presentes Juanita Bermúdez\, la coordinadora del Programa Cultural Fundación Ortiz Gurdián\, y el embajador de España\, Rafael Carranzo García. \nEn esta misma galería ubicada en la planta baja del edificio Málaga en Plaza España\, también se presenta la exposición Tres maestros del arte europeo: Marc Chagall\, Salvador Dalí y Joan Miró. \nLos horarios de atención son de lunes a viernes\, de 9:00 a.m. a 6:00 p.m.\, sin interrupción y los sábados con previa cita. \n  \nREFRENCIAS: \n\nMás cerca de Goya – 27/Agosto/2016 (El Nuevo Diario)\nEl universo goyesco se toma la FOG – 24/Agosto/2016 (El Nuevo Diario)\n\n  \n 
URL:https://nicasnews.com/event/exposicion-los-caprichos-de-francisco-de-goya/
LOCATION:Centro de Arte de la Fundación Ortiz Gurdián\, Planta baja del  Edificio Málaga de Plaza España\, Managua\, Managua\, Nicaragua
CATEGORIES:2016,Cultural,EVENTOS,Exhibición,Managua,Nicaragua
ATTACH;FMTTYPE=image/jpeg:https://nicasnews.com/wp-content/uploads/2016/08/20160825-2.jpg
ORGANIZER;CN="Fundaci%C3%B3n Ortiz Gurdi%C3%A1n":MAILTO:info@fundacionortizgurdian.org
END:VEVENT
BEGIN:VEVENT
DTSTART;TZID=America/Managua:20161013T130000
DTEND;TZID=America/Managua:20161026T220000
DTSTAMP:20260422T103317
CREATED:20161001T190002Z
LAST-MODIFIED:20161025T042618Z
UID:32733-1476363600-1477519200@nicasnews.com
SUMMARY:Vigésimo Tour de Cine Francés en Nicaragua
DESCRIPTION:  \nVigésimo Tour de cine francés llega a Nicaragua \nSiete filmes considerados la mejor selección del cine francés contemporáneo se proyectarán en Cinemas del 13 al 26 de octubre. \nLa muestra del Tour de Cine Francés en Nicaragua\, organizada por  la embajada de Francia\, la Alianza Francesa y el apoyo de Cinemas\, arrancó ayer con la película “Un hombre a la altura” en la sala 9 de Cinemas Galerías\, en las tandas de 1:45\, 4:05\, 6:10 y 8:25 p.m. Dicha película continuará proyectándose en los mismos horarios. Las proyecciones en agenda\, desde el 13 hasta el 26\, serán en la misma sala y en el mismo horario de las funciones. \nAntes de aterrizar en Nicaragua\, esta edición del tour dio inicio en México el pasado 30 de septiembre y se exhibieron las piezas en 16 estados de ese país; en algunas de las salas se mantuvieron hasta por tres semanas.  Esta actividad internacional fue creada por Nueva Era Films\, la cadena de cines Cinépolis\, la embajada de Francia en México y la Federación de Alianzas Francesas. \nLas obras \nEn toda Centroamérica y Panamá se estarán presentando: “Un hombre a la altura”\, “Lolo\, el hijo de mi novia”\, “El porvenir”\, “Señor chocolate”\, “En el nombre de mi hija”\,  “Búmeran” y “La estudiante y el señor Herni”. Las más cortas tienen una duración de 98 minutos y la más extensa\, “Señor chocolate”\, tiene una duración de 119 minutos. Según la sede diplomática\, estas películas serán expuestas ante el público antes de su estreno en las salas comerciales de Mesoamérica. Las temáticas abordadas en cada filme son variadas: amor\, prejuicios\, disputas\, aventuras\, triunfo\, discriminación\, ironía\, encuentros\, desencuentros y más podremos apreciar en estas grandes piezas del cine moderno europeo. \nEl propósito de presentar en Nicaragua este Tour de Cine Francés es “promover el cine francés y crear un nuevo público cinematográfico\, ávido de la cultura y el lenguaje galo”\, según sus organizadores. \nEn nuestro país\, tendremos el honor de disfrutarlas en los cómodos asientos de Cinemas Galerías\, en el horario más conveniente para cada asistente. \nEl filme de apertura \nSe cuenta la historia de Diane y Alexandre\, quienes se conocen por casualidad a través de una llamada telefónica\, luego del divorcio de Diane. Los acontecimientos posteriores\, harán que Diane luche contra los prejuicios sociales y sus propios miedos\, dado que Alexandre no luce “como ella pensaba”. \nLas fechas \nJueves 13 y Viernes 14:\n“Un hombre a la altura”\n \n  \nSábado 15 y domingo 16:\n“En el nombre de mi hija”\n \n  \nLunes 17 y martes 18:\n“Lolo\, el hijo de mi novia”\n \n  \nMiércoles 19 y jueves 20:\n“El porvenir”\n \n  \nViernes 21 y sábado 22:\n“Señor chocolate”\n \n  \nDomingo 23 y lunes 24:\n“Búmeran”\n \n  \nMartes 25 y miércoles 26:\nEl filme de clausura será “La estudiante y el señor Herni”\n \n  \n  \nREFERENCIA: \n\nEl Nuevo Diario\n\n  \n 
URL:https://nicasnews.com/event/vigesimo-tour-de-cine-frances-en-nicaragua/
LOCATION:Cinemas Galerías\, Km. 7 Carretera a Masaya\,  Centro Comercial Galerías Santo Domingo\, Managua\, Managua\, Nicaragua
CATEGORIES:2016,Cine,EVENTOS,Managua,Nicaragua
ATTACH;FMTTYPE=image/jpeg:https://nicasnews.com/wp-content/uploads/2016/10/20161013.jpg
END:VEVENT
BEGIN:VEVENT
DTSTART;TZID=America/Managua:20161015T080000
DTEND;TZID=America/Managua:20161015T170000
DTSTAMP:20260422T103317
CREATED:20161001T190007Z
LAST-MODIFIED:20161017T041803Z
UID:32747-1476518400-1476550800@nicasnews.com
SUMMARY:VIII Carnaval Acuático de Río San Juan
DESCRIPTION:  \nOcho mil personas participan en Carnaval Acuático de Río San Juan \nCon mucha algarabía\, color y creatividad se celebra el VIII Carnaval Acuático en el cual participan más de 28 carrozas que recorren las aguas del Río San Juan y el Gran Lago de Nicaragua. \nEn esta edición participaron 14 comparsas\, entre ellas 6 locales y las otras 8 de Rivas\, Granada\, Chontales y una de Masaya\, la cual protagonizó un desfile colorido con gigantonas y personajes representativos de mitos y leyendas propias de la Ciudad de las Flores. \nEl VIII Carnaval Acuático\, estuvo acompañado con 4 días de feria gastronómica y artesanal\, con la participación de los seis municipios del departamento de Río San Juan. \nTambién participaron representantes de 129 pequeños talleres y negocios de los seis municipios de Río San Juan\, quienes dieron a conocer la gastronomía\, artesanía y oferta turística. \nLa Alcaldía de San Carlos\, con el apoyo del Instituto Nicaragüense de Turismo (Intur)\, organizaron el evento\, el cual contó con la participación de más de ocho mil personas\, entre ellas más de mil costarricenses\, de acuerdo con las autoridades. \n  \nREFERENCIA: \n\nEl Nuevo Diario\n\n  \n 
URL:https://nicasnews.com/event/viii-carnaval-acuatico-de-rio-san-juan/
LOCATION:Unnamed Venue\, Río San Juan\, Río San Juan\, Nicaragua
CATEGORIES:2016,EVENTOS,Festival,Nicaragua,Río San Juan
ATTACH;FMTTYPE=image/jpeg:https://nicasnews.com/wp-content/uploads/2016/10/20161015-2.jpg
ORGANIZER;CN="Instituto Nicarag%C3%BCense de Turismo (INTUR)":MAILTO:webmaster@intur.gob.ni
END:VEVENT
BEGIN:VEVENT
DTSTART;TZID=America/Managua:20161015T080000
DTEND;TZID=America/Managua:20161016T220000
DTSTAMP:20260422T103317
CREATED:20161001T190028Z
LAST-MODIFIED:20161017T073106Z
UID:32753-1476518400-1476655200@nicasnews.com
SUMMARY:Primer Festival Gastronómico en Granada
DESCRIPTION:  \nLa Cámara Nicaragüense de la Micro\, Pequeña y Mediana Empresa Turística (Cantur) realiza este fin de semana en Granada el Primer Festival Gastronómico con el objetivo de destacar a la Gran Sultana como destino culinario. \nEste evento contará con la participación de los tres mejores restaurantes del municipio\, entre estos El Corral\, que estará presentando comida nicaragüense; El Marlin\, que expondrá los mejores platos en mariscos; y El Tranvía\, que expondrá comida internacional. \nSe realizará en el Hotel Darío y alrededor de 25 tipos de platillos estarán a la venta al público. La entrada será totalmente gratis y habrá un 40% de descuento en cada uno de los platos expuestos. \n“Estamos enfocados en presentar una variedad de comida\, este festival culminará el domingo por la noche\, por otra parte\, habrá degustación de vinos y comida\, grupos musicales y show folklóricos para que las personas puedan disfrutar en familia”\, dijo Samuel Cruz\, gerente general del restaurante Tranvía. \nBosco Garay\, propietario del restaurante El Marlin\, agregó que quieren “presentar a Granada como una alternativa en turismo gastronómico con productos de alta calidad\, con excelente servicio y precios”. \n“Tenemos mucho que ofrecer\, ya que cada uno de los restaurantes tiene su especialidad\, esperamos continuar los próximos años promoviendo este tipo de eventos para que la gente pruebe una cocina no tradicional”\, expresó Garay. \n  \nREFERENCIAS: \n\nEl Nuevo Diario\n\n  \n 
URL:https://nicasnews.com/event/primer-festival-gastronomico-en-granada/
LOCATION:Hotel Darío\, Calle La Calzada. De la Catedral\, 1 ½ cuadra al Lago\, Granada\, Granada\, Nicaragua
CATEGORIES:2016,EVENTOS,Gastronomía,Granada,Granada,Nicaragua
ATTACH;FMTTYPE=image/jpeg:https://nicasnews.com/wp-content/uploads/2016/10/cantur001.jpg
END:VEVENT
BEGIN:VEVENT
DTSTART;TZID=America/Managua:20161015T190000
DTEND;TZID=America/Managua:20161015T230000
DTSTAMP:20260422T103317
CREATED:20161001T190052Z
LAST-MODIFIED:20161017T011350Z
UID:32725-1476558000-1476572400@nicasnews.com
SUMMARY:Centro Cultural Alemán Nicaragüense Oktoberfest
DESCRIPTION:  \nEl Centro Cultural Alemán Nicaragüense te invita a su famoso Oktoberfest 2016 que se va a celebrar en las instalaciones del Colegio Alemán Nicaragünse! No faltas en esta gran tradición y siempre con baile\, comida y cerveza alemana y más. Igual podrás dirsfrutar de la cerveza nacional. \n¡No dudes llegar en un vestido tradional! \nCosto: C$ 150  / Miembros del Club Alemán C$ 100 \n  \n 
URL:https://nicasnews.com/event/centro-cultural-aleman-nicaraguense-oktoberfest/
LOCATION:Colegio Alemán Nicaragüense\, Carretera Sur\, Km 10 ½\, 800 metros al Oeste\, Managua\, Managua\, Nicaragua
CATEGORIES:2016,EVENTOS,Festival,Managua,Nicaragua
ATTACH;FMTTYPE=image/jpeg:https://nicasnews.com/wp-content/uploads/2016/10/20161015.jpg
END:VEVENT
END:VCALENDAR