BEGIN:VCALENDAR
VERSION:2.0
PRODID:-//Nicas En El Exterior News - ABRIL 2026 - ECPv6.15.17.1//NONSGML v1.0//EN
CALSCALE:GREGORIAN
METHOD:PUBLISH
X-ORIGINAL-URL:https://nicasnews.com
X-WR-CALDESC:Events for Nicas En El Exterior News - ABRIL 2026
REFRESH-INTERVAL;VALUE=DURATION:PT1H
X-Robots-Tag:noindex
X-PUBLISHED-TTL:PT1H
BEGIN:VTIMEZONE
TZID:America/Los_Angeles
BEGIN:DAYLIGHT
TZOFFSETFROM:-0800
TZOFFSETTO:-0700
TZNAME:PDT
DTSTART:20150308T100000
END:DAYLIGHT
BEGIN:STANDARD
TZOFFSETFROM:-0700
TZOFFSETTO:-0800
TZNAME:PST
DTSTART:20151101T090000
END:STANDARD
BEGIN:DAYLIGHT
TZOFFSETFROM:-0800
TZOFFSETTO:-0700
TZNAME:PDT
DTSTART:20160313T100000
END:DAYLIGHT
BEGIN:STANDARD
TZOFFSETFROM:-0700
TZOFFSETTO:-0800
TZNAME:PST
DTSTART:20161106T090000
END:STANDARD
BEGIN:DAYLIGHT
TZOFFSETFROM:-0800
TZOFFSETTO:-0700
TZNAME:PDT
DTSTART:20170312T100000
END:DAYLIGHT
BEGIN:STANDARD
TZOFFSETFROM:-0700
TZOFFSETTO:-0800
TZNAME:PST
DTSTART:20171105T090000
END:STANDARD
END:VTIMEZONE
BEGIN:VEVENT
DTSTART;TZID=America/Los_Angeles:20160806T090000
DTEND;TZID=America/Los_Angeles:20160806T110000
DTSTAMP:20260425T210322
CREATED:20160806T070009Z
LAST-MODIFIED:20160808T023053Z
UID:27513-1470474000-1470481200@nicasnews.com
SUMMARY:Rafael Antonio Lacayo Paladino (Tiro - 10m. Pistola de aire - Eliminatorias)
DESCRIPTION:  \n \n  \nRafael Lacayo Paladino\n1. Rafael Antonio Lacayo Paladino – Bib No. 1731\n(17 años – 19/Noviembre/1998) San Pedro\, Ticuantepe\, Managua. Estudiante del tercer año de secundaria del colegio Alejandro Matus\, ubicado en el kilómetro 19.5 carretera a Masaya.\nTiro (10m. Pistola de aire) Lacayo posee el récord nacional en su especialidad con 572 puntos.\nLacayo representará a Nicaragua en la disciplina deportiva y su boleto lo logró con 566 puntos en Toronto\, tres unidades por encima del mínimo que se requiere para garantizar su participación en la máxima justa del deporte amateur. \nCalendario:\n• Sábado 6 (Eliminatorias) \n  \nResultados:\n• Lugar 39 de 46 participantes en la Clasificación General. \n  \n \n  \n  \n  \n  \n  \n  \n  \n \n  \n\n  \n  \n \n  \n\n  \n \n  \n 
URL:https://nicasnews.com/event/rafael-antonio-lacayo-paladino-tiro-10m-pistola-de-aire-eliminatorias/
LOCATION:Centro Olímpico de Tiro\, AV. DUQUE DE CAXIAS\, 2.020 - VILA MILITAR\, Ponta Porã - MS\, 79900-000\, Brazil
CATEGORIES:2016,Brasil,Deportes,Tiro
ATTACH;FMTTYPE=image/jpeg:https://nicasnews.com/wp-content/uploads/2016/08/20160805-6b.jpg
END:VEVENT
BEGIN:VEVENT
DTSTART;TZID=America/Los_Angeles:20160806T092000
DTEND;TZID=America/Los_Angeles:20160806T110000
DTSTAMP:20260425T210322
CREATED:20160806T070046Z
LAST-MODIFIED:20160807T055202Z
UID:27523-1470475200-1470481200@nicasnews.com
SUMMARY:Dalia Tórrez (Natación - 100 metros mariposa - Eliminatorias)
DESCRIPTION:  \n \n  \nDalia Tórrez\n2. Dalia Tórrez Zamora (Torres) – Bib No.\n(26 años – 19/Marzo/1990) Managua.\nNatación (100 metros mariposa) Posee 15 récords nacionales. Con 629 puntos en los 50 metros libres. \nCalendario:\n• Sábado 6 (Eliminatorias) \n  \n  \nResultados:\n• Lugar #40 en la clasificación general.\n \n \n  \n  \nArtículos: \n• Dalia Tórrez concluye su participación en Rio 2016 – 6/Agosto/2016 (El Nuevo Diario) \n  \n  \n  \n \n  \n\n                \n\n                \n                    \n                        \n                           \n\n                            \n                                1 of 4\n                                \n                                    \n                                    \n                                \n                            \n                        \n\n                        \n                            \n                                \n                    \n                        \n                            \n                                \n                            \n                            \n                        \n                    \n                    \n                        \n                            \n                                \n                            \n                            \n                        \n                    \n                    \n                        \n                            \n                                \n                            \n                            \n                        \n                    \n                    \n                        \n                            \n                                \n                            \n                            \n                        \n                    \n                            \n                        \n\n                        \n                            \n                                \n                    \n                        \n                    \n                    \n                        \n                    \n                    \n                        \n                    \n                    \n                        \n                    \n                            \n                        \n\n                    \n\n                \n                \n  \n  \n 
URL:https://nicasnews.com/event/dalia-torrez-natacion-100-metros-mariposa-eliminatorias/
LOCATION:Estadio Acuático Olímpico\, AV. EMB. ABELARDO BUENO 3.401\, Barra da Tijuca\, Rio de Janeiro\, 22775-039\, Brazil
CATEGORIES:2016,Brasil,Deportes,Natación
ATTACH;FMTTYPE=image/jpeg:https://nicasnews.com/wp-content/uploads/2016/08/20160805-7b.jpg
END:VEVENT
END:VCALENDAR