BEGIN:VCALENDAR
VERSION:2.0
PRODID:-//Nicas En El Exterior News - ABRIL 2026 - ECPv6.15.17.1//NONSGML v1.0//EN
CALSCALE:GREGORIAN
METHOD:PUBLISH
X-ORIGINAL-URL:https://nicasnews.com
X-WR-CALDESC:Events for Nicas En El Exterior News - ABRIL 2026
REFRESH-INTERVAL;VALUE=DURATION:PT1H
X-Robots-Tag:noindex
X-PUBLISHED-TTL:PT1H
BEGIN:VTIMEZONE
TZID:America/Managua
BEGIN:STANDARD
TZOFFSETFROM:-0600
TZOFFSETTO:-0600
TZNAME:CST
DTSTART:20150101T000000
END:STANDARD
END:VTIMEZONE
BEGIN:VTIMEZONE
TZID:America/Los_Angeles
BEGIN:DAYLIGHT
TZOFFSETFROM:-0800
TZOFFSETTO:-0700
TZNAME:PDT
DTSTART:20150308T100000
END:DAYLIGHT
BEGIN:STANDARD
TZOFFSETFROM:-0700
TZOFFSETTO:-0800
TZNAME:PST
DTSTART:20151101T090000
END:STANDARD
BEGIN:DAYLIGHT
TZOFFSETFROM:-0800
TZOFFSETTO:-0700
TZNAME:PDT
DTSTART:20160313T100000
END:DAYLIGHT
BEGIN:STANDARD
TZOFFSETFROM:-0700
TZOFFSETTO:-0800
TZNAME:PST
DTSTART:20161106T090000
END:STANDARD
BEGIN:DAYLIGHT
TZOFFSETFROM:-0800
TZOFFSETTO:-0700
TZNAME:PDT
DTSTART:20170312T100000
END:DAYLIGHT
BEGIN:STANDARD
TZOFFSETFROM:-0700
TZOFFSETTO:-0800
TZNAME:PST
DTSTART:20171105T090000
END:STANDARD
END:VTIMEZONE
BEGIN:VEVENT
DTSTART;TZID=America/Managua:20160825T090000
DTEND;TZID=America/Managua:20161209T180000
DTSTAMP:20260424T141809
CREATED:20160801T190028Z
LAST-MODIFIED:20160827T130935Z
UID:30389-1472115600-1481306400@nicasnews.com
SUMMARY:Exposición “Los Caprichos” de Francisco de Goya
DESCRIPTION:El universo goyesco se toma la FOG\nExposición. La colección “Los Caprichos” de Francisco de Goya reúne un aproximado de 80 grabados que estarán expuestos ante el público nicaragüense hasta diciembre. \nPrecursor de la pintura moderna\, cuyo trabajo precede al Romanticismo\,  Impresionismo\, Expresionismo y Surrealismo\, Francisco de Goya tendrá su espacio en el centro de arte de la Fundación Ortiz Gurdián FOG con la exposición “Los Caprichos”\, la cual se inaugurá el jueves 25 de agosto y estará abierta al público hasta diciembre. \nLa obra de Francisco de Goya es inmensa. Cultivó con excelencia todas las técnicas: el dibujo\, el aguafuerte\, el aguatinta\, la litografía\, así como la acuarela\, y la pintura al fresco y al óleo. Según el caso\, recurrió a múltiples soportes: papel\, plancha de cobre\, piedra caliza\, cartón\, marfil\, mural y lienzo. Desarrolló\, asimismo\, diversidad de géneros pictóricos o temas: retrato y autorretrato\, pintura religiosa\, profana\, mitológica\, alegórica\, social\, histórica y costumbrista. \nLa obra en exhibición –Los Caprichos– revela al Goya grabador y al artista crítico de su época.  \nLos primeros grabados de Goya datan de entre 1778 y 1790\, cuando copia al aguafuerte y al aguatinta dieciséis pinturas de Diego Velázquez. \nAunque se desconoce la fecha exacta en que Goya comenzó a trabajar en la serie de “Los Caprichos”\, es posible que su origen fueran algunos de los bocetos realizados entre 1794 y 1796 en su Álbum A\, también conocido como Álbum de Sanlúcar\, y en el Álbum B o de Sanlúcar-Madrid. \nEl artista concibió inicialmente la serie de “Los Caprichos” como un conjunto de grabados que tituló Sueños\, para lo que realizó 28 dibujos preparatorios de los cuales 11 se encuentran en el Álbum B. El título que el pintor había pensado para la portada era Sueño 1º Idioma universal. Dibujado y grabado por Francisco de Goya. Año 1797. El Autor soñando. Por el título\, estas estampas posiblemente estuvieron inspiradas en la obra Sueños y discursos\, del escritor Francisco de Quevedo. \nLa serie de “Los Caprichos” es una obra que censura los vicios y las debilidades humanas con un lenguaje sarcástico y en ocasiones lleno de fantasía. Los temas de la serie se abordan de forma espontánea\, según los criterios del pintor y\, por tanto\, las estampas no tienen una estructura ni un orden específico. Sin embargo\, la primera mitad de la serie tiene un carácter realista\, mientras que en la segunda se percibe un lenguaje fantástico que\, a veces\, raya en lo absurdo. \nGoya realiza las estampas de “Los Caprichos” trabajando las planchas con aguafuerte que luego afinaba con aguatinta y por último perfeccionaba con punta seca y buril. No dibuja directamente sobre la plancha a la manera de otros artistas como Rembrandt\, sino que realiza dibujos preparatorios para casi todos los grabados. \nLa exposición “Los Caprichos” de Francisco de Goya se presenta como parte del Programa de Cultura de la Fundación Ortiz Gurdián\, con el patrocinio del Grupo Promerica. Estará abierta al público durante los meses de agosto\, septiembre\, octubre\, noviembre y diciembre –en horarios de atención– en Managua.\nEn enero 2017 la muestra se traslada al Centro de Arte Fundación Ortiz Gurdián\, León. \n  \n\n  \n  \nLos horarios de atención son de lunes a viernes\, de 9:00 a.m. a 6:00 p.m. Foto: Melvin Vargas\n  \nLa exposición “Los caprichos de Goya” ya está  abierta al público en el Centro de Arte de la Fundación Ortiz Gurdián\, un espacio para aprender y conocer más sobre la propuesta artística del español Francisco de Goya. \nLas palabras de apertura en el acto de inauguración –el jueves pasado– fueron por parte de Ramiro Norberto Ortiz Gurdián\, del Grupo Promerica\, quien dio una cálida bienvenida a los asistentes y recalcó el valor de seguir inculcando a los más pequeños el valor de las obras universales y motivarlos a desarrollar sus habilidades artísticas. \nEn estas piezas que realizó el artista español Francisco de Goya en el siglo XVII\, durante su vida adulta\, se puede apreciar caricaturas de doble sentido con una postura crítica ante el abuso del poder y están llenas de contenido social\, agregándole un valor artístico impresionante. \nTatiana Torres\, directora del Centro de Arte de la Fundación Ortiz Gurdián\, expresó que el público meta de esta exposición son los jóvenes estudiantes y el propósito de la exposición es brindarles una formación integral y que puedan contar con una cultura general amplia. \nDentro de las actividades que el centro de arte tiene programadas están las visitas guiadas de los estudiantes de secundaria del Colegio Teresiano y el Instituto del Valle con un sinnúmero de dinámicas educativas que permitan que los asistentes logren aprovechar la oportunidad de contemplar estos cuadros. \nTodo el esfuerzo de presentar al público nicaragüense estas magníficas obras del arte universal es posible gracias a Grupo Promerica.  \nEn el evento inaugural también estuvieron presentes Juanita Bermúdez\, la coordinadora del Programa Cultural Fundación Ortiz Gurdián\, y el embajador de España\, Rafael Carranzo García. \nEn esta misma galería ubicada en la planta baja del edificio Málaga en Plaza España\, también se presenta la exposición Tres maestros del arte europeo: Marc Chagall\, Salvador Dalí y Joan Miró. \nLos horarios de atención son de lunes a viernes\, de 9:00 a.m. a 6:00 p.m.\, sin interrupción y los sábados con previa cita. \n  \nREFRENCIAS: \n\nMás cerca de Goya – 27/Agosto/2016 (El Nuevo Diario)\nEl universo goyesco se toma la FOG – 24/Agosto/2016 (El Nuevo Diario)\n\n  \n 
URL:https://nicasnews.com/event/exposicion-los-caprichos-de-francisco-de-goya/
LOCATION:Centro de Arte de la Fundación Ortiz Gurdián\, Planta baja del  Edificio Málaga de Plaza España\, Managua\, Managua\, Nicaragua
CATEGORIES:2016,Cultural,EVENTOS,Exhibición,Managua,Nicaragua
ATTACH;FMTTYPE=image/jpeg:https://nicasnews.com/wp-content/uploads/2016/08/20160825-2.jpg
ORGANIZER;CN="Fundaci%C3%B3n Ortiz Gurdi%C3%A1n":MAILTO:info@fundacionortizgurdian.org
END:VEVENT
BEGIN:VEVENT
DTSTART;TZID=America/Managua:20161001T180000
DTEND;TZID=America/Managua:20161002T210000
DTSTAMP:20260424T141809
CREATED:20160901T190029Z
LAST-MODIFIED:20161001T184720Z
UID:31247-1475344800-1475442000@nicasnews.com
SUMMARY:Rompiendo fronteras
DESCRIPTION:  \n“Rompiendo fronteras” es el espectáculo que presentará el Rodeo Americano Internacional\, por primera vez\, en Nicaragua. Un show seguido por más de 30 millones de aficionados en todo el mundo. \n\n\nEsta presentación\, característica de los Estados Unidos\, contará con la presencia de jinetes\, cómicos\, quita toros extranjeros\, entre otros\, quienes pondrán a prueba las mejores técnicas y habilidades como criadores\, entrenadores y montados.\n\n\n\nEste espectáculo tiene preparado un megamontaje jamás visto en el país que incluye tarimas a dos niveles\, localidades de graderías y Vip completamente techadas que les permitirá a todos los asistentes disfrutar del evento con la mejor comodidad\, señalaron los organizadores\, la productora Premier Producciones.\n\n\nEste montaje se preparó con el objetivo de complacer a las personas amantes a la adrenalina a su máxima expresión. \nEl show promete ser el más extraordinario por la calidad de montaje y por la presentación de los sobresalientes jinetes de México\, Guatemala\, El Salvador\, Cuba\, Honduras\, Brasil\, Costa Rica y los mejores de Nicaragua desafiando a los mejores toros. \nAdemás se tendrá la presentación del cómico “Baby The Clown” que viene desde Mazatlán\, México y bajo la excusa de divertir a la audiencia tendrá la valiente y temeraria tarea de enfrentar a los toros y distraerlos con el objetivo de ayudar en la labor de los jinetes. \nEl público tambien podrá disfrutar una noche de euforia y color con el show de fuegos artificiales y lanzallamas que harán vibrar los sentidos de los espectadores. \n\nEl rodeo\nEl rodeo es uno de los deportes más extremos y tradicionales del país anglosajón. Consiste en montar reses vacunas bravas (toros) sobre las cuales se realizan diferentes ejercicios como arrojar el lazo\, rejonear\, etc. \nEste deporte actualmente cuenta con diferentes disciplinas en las que se destacan el manejo y vuelco de terneros\, barrileras a caballos\, el lazo doble y un grandioso concierto de banda. \nEl rodeo es un deporte extremo estadounidense tradicional que consiste en montar reses vacunas bravas (como novillos o toros) o potros salvajes  y realizar diversos ejercicios como arrojar el lazo\, rejonear\, entre otros.  Este deporte actualmente cuenta con diferentes disciplinas\, entre las que destaca: Barrileras a caballo\, vuelco y manejo de ternero y  lazo doble. \nEste evento\, organizado por Vaqueros Completos (VC)\, empresa líder de rodeo en Centroamérica\, y Premier Producciones\, se realizará el 1 y 2 de octubre  en el terreno contiguo al Edificio Pellas. El montaje será impresionante\, pues contará con ganaderías de gran calidad\, montados y animación\, donde los asistentes podrán acompañar a sus favoritos desde localidades completamente techadas. \nLa animación estará a cargo del grupo Los Mokuanes y la Banda R.A de Matiguás\, quienes pondrán a bailar a los asistentes hasta que las botas aguanten y harán vivir la mejor experiencia del rodeo a su máxima expresión. \nEl costo de los boletos en preventa son: graderías $15 y VIP $20 dólares\, aplica $1 de cargo por servicio. \nPuedes comprar tus entradas en línea a través de Todoticketni.com  o visitar las sucursales de Todoticket y CrepeLovers\,  ubicados en Galerías Santo Domingo\, Metrocentro\, Multicentro Las Américas\, Carretera Sur y Plaza España. \nObtené 20% de descuento en la compra de boletos con Claro Club y tarjetas de crédito y débito Premia Banpro. \n  \n 
URL:https://nicasnews.com/event/rompiendo-fronteras/
LOCATION:Terreno contiguo al Edificio Pellas\, Carretera a Masaya\, Managua\, Managua\, Nicaragua
CATEGORIES:2016,EVENTOS,Exhibición,Managua,Nicaragua
ATTACH;FMTTYPE=image/jpeg:https://nicasnews.com/wp-content/uploads/2016/09/20161001-2.jpg
END:VEVENT
BEGIN:VEVENT
DTSTART;TZID=America/Los_Angeles:20161001T190000
DTEND;TZID=America/Los_Angeles:20161001T230000
DTSTAMP:20260424T141809
CREATED:20160830T070049Z
LAST-MODIFIED:20161001T221411Z
UID:30635-1475348400-1475362800@nicasnews.com
SUMMARY:4th Annual Metropolitan Fashion Week Hollywood Closing Gala & Fashion Awards
DESCRIPTION:Metropolitan Fashion Week events are held in dramatic\, non-traditional venues that showcase not just best fashion designers or costume designs\, but the most beautiful venues each city has to offer. \nMetropolitan Fashion Week Media Highlights https://www.youtube.com/watch?v=XBsDwEYiZX0 \nDISEÑOS POR: ERICK BENDAÑA\n \nErick Bendaña\nFOLLOW METROPOLITAN FASHION WEEK: \nWebsite: MetropolitanFashionWeek.net\nEmail: Media@MetropolitanFashionWeek.net\nHashtag: #MetroFW\nFacebook: Metropolitan Fashion Week\nTwitter: @MetroFashionW\nInstagram: MetropolitanFashionWeek\nYouTube: youtube.com/channel/UC1R1SwGR97yVqxgLhHovjAA  \n  \nat a Glance: \n4th Annual Metropolitan Fashion Week Hollywood Closing Gala and Fashion Awards\n#MetroFW\n  \nWHEN: Saturday\, October 01\, 2016 \nWHERE: Warner Bros. Studios 4000 Warner Blvd\, Burbank\, California 91522 Parking Gate 3 \n\n7:00pm Doors opens\n8:30pm Fashion Show and Award Ceremony\nDress Code\, The black-tie. Ladies\, Long Dress\, Gowns\, Gentlemen Business or Tuxedo. No one in jeans\, tennis shoes\, flip flops or shorts.\n\nIMPORTANT: Warner Bros. Studios has a very strict security policy where all guest names must be provided prior to the show. Therefore\, please ensure that you list all guests’ names exactly as they appear on their driver’s license/ID when purchasing tickets.  The person who purchases the tickets will receive a confirmation that each guests name has been added to the guest list.\n\n\nAll ticket prices include: \n\nFashion Show and Awards Show\nHosted Bar & Pâtisseries\nParking\n\n\n\n2016 Metropolitan Fashion Excellence Award Recipient: Cirque Du Soleil \n\nThe award categories include Costume Designer of the Year (Motion Pictures)\, Costume Designer of the Year (TV)\, Costume Designer of the Year (Live Performance)\, Celebrity Stylist of the Year\, Fashion Program of the Year\, Fashion Commentator of the Year\, Fashion Blogger of the Year; Make-Up Artist and Hair Stylists of the Year (TV/ Motion Picture) and MFW Excellence Award. \nIn addition to the Awards ceremony\, the evening will include a one-of-a-kind fashion show featuring haute couture gowns and costumes and exclusive Presentation from Cirque Du Soleil\, Las Vegas. \n  \n \n  \n  \n\nAbout Metropolitan Fashion Week:\n\nMetropolitan Fashion Week is one of the fastest growing fashion weeks in the United States\, with shows in Seattle\, Los Angeles\, Las Vegas\, Palm Springs and soon\, New York. Metropolitan is the only fashion week in the world that features both Fashion Designers and Costume Designers\, from around the world\, on one runway. \nMetropolitan Fashion Week has made a global impact on the fashion scene by presenting events held in dramatic\, non-traditional venues that showcase not only fashion designers and costume designs\, but the most beautiful venues each city has to offer as well. \nWhere other fashion weeks predominantly target retail buyers\, Metropolitan Fashion Week provides a platform that reaches Fashion Influencers\, Celebrity Stylists and Entertainment Executives. \n  \n 
URL:https://nicasnews.com/event/4th-annual-metropolitan-fashion-week-hollywood-closing-gala-fashion-awards/
LOCATION:Warner Bros. Entertainment\, 4000 Warner Blvd\, Burbank\, CA\, 91522\, United States
CATEGORIES:2016,Estados Unidos de América,EVENTOS,Los Angeles,Moda
ATTACH;FMTTYPE=image/jpeg:https://nicasnews.com/wp-content/uploads/2016/08/20161001.jpg
ORGANIZER;CN="Metropolitan Fashion Week Hollywood":MAILTO:tickets@metropolitanfashionweek.net
END:VEVENT
END:VCALENDAR