BEGIN:VCALENDAR
VERSION:2.0
PRODID:-//Nicas En El Exterior News - ABRIL 2026 - ECPv6.15.17.1//NONSGML v1.0//EN
CALSCALE:GREGORIAN
METHOD:PUBLISH
X-ORIGINAL-URL:https://nicasnews.com
X-WR-CALDESC:Events for Nicas En El Exterior News - ABRIL 2026
REFRESH-INTERVAL;VALUE=DURATION:PT1H
X-Robots-Tag:noindex
X-PUBLISHED-TTL:PT1H
BEGIN:VTIMEZONE
TZID:America/Managua
BEGIN:STANDARD
TZOFFSETFROM:-0600
TZOFFSETTO:-0600
TZNAME:CST
DTSTART:20150101T000000
END:STANDARD
END:VTIMEZONE
BEGIN:VEVENT
DTSTART;TZID=America/Managua:20160724T093000
DTEND;TZID=America/Managua:20160724T200000
DTSTAMP:20260421T071355
CREATED:20160701T190048Z
LAST-MODIFIED:20160721T103147Z
UID:24003-1469352600-1469390400@nicasnews.com
SUMMARY:Festival Ecológico Unidos por Bosawas 2016
DESCRIPTION:  \nLes invitamos a acompañarnos en el Festival Ecológico Unidos por Bosawas 2016 – Avivate y reaccioná que los bosques se van a acabar. Durante este día domingo 24 de julio\, tendremos una feria con artistas\, productos ecológicos y actividades para compartir en familia. \nDesde las 9:30 tendremos clases gratuitas de yoga\, pintacaritas y diferentes presentaciones de músicos nicaragüenses. Con este evento buscamos sensibilizar a los jóvenes\, a los más pequeños del hogar y familias enteras para motivar a llevar a cabo acciones verdes para mejorar nuestra relación con el medio ambiente. \nLa entrada es totalmente gratuita\, les esperamos con toda su familia. \n  \n \n  \n 
URL:https://nicasnews.com/event/festival-ecologico-unidos-por-bosawas-2016/
LOCATION:CIPRES\, De la Rotonda Rubén Darío\, 100 metros al Oeste\, Managua\, Managua\, Nicaragua
CATEGORIES:Concierto,EVENTOS,Festival,Managua,Nicaragua
ATTACH;FMTTYPE=image/jpeg:https://nicasnews.com/wp-content/uploads/2016/07/20160724.jpg
END:VEVENT
END:VCALENDAR