BEGIN:VCALENDAR
VERSION:2.0
PRODID:-//Nicas En El Exterior News - ABRIL 2026 - ECPv6.15.17.1//NONSGML v1.0//EN
CALSCALE:GREGORIAN
METHOD:PUBLISH
X-WR-CALNAME:Nicas En El Exterior News - ABRIL 2026
X-ORIGINAL-URL:https://nicasnews.com
X-WR-CALDESC:Events for Nicas En El Exterior News - ABRIL 2026
REFRESH-INTERVAL;VALUE=DURATION:PT1H
X-Robots-Tag:noindex
X-PUBLISHED-TTL:PT1H
BEGIN:VTIMEZONE
TZID:America/Managua
BEGIN:STANDARD
TZOFFSETFROM:-0600
TZOFFSETTO:-0600
TZNAME:CST
DTSTART:20150101T000000
END:STANDARD
END:VTIMEZONE
BEGIN:VEVENT
DTSTART;TZID=America/Managua:20160722T190000
DTEND;TZID=America/Managua:20160722T210000
DTSTAMP:20260422T063314
CREATED:20160701T190023Z
LAST-MODIFIED:20160713T232259Z
UID:21723-1469214000-1469221200@nicasnews.com
SUMMARY:“Guitarra Iberoamericana” con Orquesta de Guitarras “Armando Morales Barillas
DESCRIPTION:  \n**Entrada libre y gratuita** \nLa Orquesta de Guitarras Armando Morales Barillas promueve el arte de la guitarra clásica a nivel nacional\,realiza presentaciones\, conciertos didácticos y conferencias. Fue creada en el año 2005 por alumnos del Conservatorio de Música de la UPOLI. Lleva su nombre en honor al guitarrista matagalpino Armando Morales Barillas (1936-1984).\nEn todos estos años\, la Orquesta ha ido creciendo en número de integrantes y ha tenido presentaciones en diferentes departamentos de Nicaragua\, y en diferentes escenarios de Managua.\nComo parte del Programa de Innovación y Creatividad artística del CCEN y en aras de estimular y apoyar el desarrollo de empresas culturales y creativas a nivel local\, La Orquesta de guitarras Armando Morales Barillas ofrecerá un concierto interpretando la música de los grandes maestros de la guitarra clásica en el Centro Cultural de España en Nicaragua el viernes 22 de julio a las 7.00pm. La entrada es gratuita. \n  \n 
URL:https://nicasnews.com/event/guitarra-iberoamericana-con-orquesta-de-guitarras-armando-morales-barillas/
LOCATION:Centro Cultural de España\, Primera Entrada a las Colinas\, 7 cuadras Arriba\, Managua\, Managua\, Nicaragua
CATEGORIES:Concierto,EVENTOS,Managua,Nicaragua
ATTACH;FMTTYPE=image/jpeg:https://nicasnews.com/wp-content/uploads/2016/07/20160722.jpg
END:VEVENT
END:VCALENDAR