BEGIN:VCALENDAR
VERSION:2.0
PRODID:-//Nicas En El Exterior News - ABRIL 2026 - ECPv6.15.17.1//NONSGML v1.0//EN
CALSCALE:GREGORIAN
METHOD:PUBLISH
X-WR-CALNAME:Nicas En El Exterior News - ABRIL 2026
X-ORIGINAL-URL:https://nicasnews.com
X-WR-CALDESC:Events for Nicas En El Exterior News - ABRIL 2026
REFRESH-INTERVAL;VALUE=DURATION:PT1H
X-Robots-Tag:noindex
X-PUBLISHED-TTL:PT1H
BEGIN:VTIMEZONE
TZID:America/Managua
BEGIN:STANDARD
TZOFFSETFROM:-0600
TZOFFSETTO:-0600
TZNAME:CST
DTSTART:20150101T000000
END:STANDARD
END:VTIMEZONE
BEGIN:VEVENT
DTSTART;TZID=America/Managua:20160709T200000
DTEND;TZID=America/Managua:20160709T220000
DTSTAMP:20260422T153135
CREATED:20160701T190042Z
LAST-MODIFIED:20160707T125513Z
UID:20409-1468094400-1468101600@nicasnews.com
SUMMARY:Concierto Acústico: "Uniendo Culturas"
DESCRIPTION:  \nConcierto acustico: “Uniendo culturas respirando el mismo aire”. \nCon Erika Coe (Norteamerica)\, Helio Vanimal (Mozambique) y Victor Centeno (4 reggae\, Nicaragua). \n  \n 
URL:https://nicasnews.com/event/concierto-acustico-uniendo-culturas/
LOCATION:Café Mará Mará\, Colonia Centroamérica. Costado Oeste del Colegio Salvador Mendieta P-951\, Managua\, Managua\, Nicaragua
CATEGORIES:Concierto,EVENTOS,Managua,Nicaragua
ATTACH;FMTTYPE=image/jpeg:https://nicasnews.com/wp-content/uploads/2016/07/20160709.jpg
END:VEVENT
END:VCALENDAR