BEGIN:VCALENDAR
VERSION:2.0
PRODID:-//Nicas En El Exterior News - ABRIL 2026 - ECPv6.15.17.1//NONSGML v1.0//EN
CALSCALE:GREGORIAN
METHOD:PUBLISH
X-WR-CALNAME:Nicas En El Exterior News - ABRIL 2026
X-ORIGINAL-URL:https://nicasnews.com
X-WR-CALDESC:Events for Nicas En El Exterior News - ABRIL 2026
REFRESH-INTERVAL;VALUE=DURATION:PT1H
X-Robots-Tag:noindex
X-PUBLISHED-TTL:PT1H
BEGIN:VTIMEZONE
TZID:America/Managua
BEGIN:STANDARD
TZOFFSETFROM:-0600
TZOFFSETTO:-0600
TZNAME:CST
DTSTART:20150101T000000
END:STANDARD
END:VTIMEZONE
BEGIN:VEVENT
DTSTART;TZID=America/Managua:20160621T193000
DTEND;TZID=America/Managua:20160621T213000
DTSTAMP:20260422T160820
CREATED:20160601T190008Z
LAST-MODIFIED:20160617T094349Z
UID:16613-1466537400-1466544600@nicasnews.com
SUMMARY:XXIV Aniversario Camerata Bach - Salvador Cardenal Barquero Sinfónico
DESCRIPTION:El Teatro Nacional Rubén Darío y Camerata Bach en su XXIV Aniversario\npresentan\n“Salvador Cardenal Barquero Sinfónico”\nPero antes\, para este 24 aniversario la Camerata Bach decidió dedicárselo a Salvador Cardenal\, un hombre que\, en palabras de Rodríguez “se adelantó a su tiempo” porque él compone sobre el medio ambiente hace 30 años “y la conciencia que tenía la gente sobre los daños no es la misma que hoy tenemos”\, asevera. “Será un concierto donde la música de dúo se ajusta a un formato distinto\, con 35 músicos”\, detalló. \nEn el homenaje sinfónico participará el coro infantil de la Camerata\, Nina\, Belén y Katia Cardenal\, además Mario Sacasa\, Noel Portocarrero\, Josué Monroy\, Tania Campos\, Lenin Triana\, Jazz Ta y por supuesto la Camerata Bach. \nEl concierto es el 21 de junio en la Sala Mayor del Teatro Nacional Rubén Darío. Las entradas cuestan 250\, 200 y 100 córdobas. Hora: 7:30 p.m. \nCOMPRE SUS BOLETOS AQUÍ \n  \n 
URL:https://nicasnews.com/event/xxiv-aniversario-camerata-bach-salvador-cardenal-barquero-sinfonico/
LOCATION:Teatro Nacional Rubén Darío\, Barrio Ruben Dario\, Managua\, Managua\, Nicaragua
CATEGORIES:Concierto,Managua
ATTACH;FMTTYPE=image/jpeg:https://nicasnews.com/wp-content/uploads/2016/06/20160621.jpg
END:VEVENT
END:VCALENDAR