BEGIN:VCALENDAR
VERSION:2.0
PRODID:-//Nicas En El Exterior News - ABRIL 2026 - ECPv6.15.17.1//NONSGML v1.0//EN
CALSCALE:GREGORIAN
METHOD:PUBLISH
X-WR-CALNAME:Nicas En El Exterior News - ABRIL 2026
X-ORIGINAL-URL:https://nicasnews.com
X-WR-CALDESC:Events for Nicas En El Exterior News - ABRIL 2026
REFRESH-INTERVAL;VALUE=DURATION:PT1H
X-Robots-Tag:noindex
X-PUBLISHED-TTL:PT1H
BEGIN:VTIMEZONE
TZID:America/Managua
BEGIN:STANDARD
TZOFFSETFROM:-0600
TZOFFSETTO:-0600
TZNAME:CST
DTSTART:20150101T000000
END:STANDARD
END:VTIMEZONE
BEGIN:VTIMEZONE
TZID:Africa/Abidjan
BEGIN:STANDARD
TZOFFSETFROM:+0000
TZOFFSETTO:+0000
TZNAME:GMT
DTSTART:20150101T000000
END:STANDARD
END:VTIMEZONE
BEGIN:VEVENT
DTSTART;TZID=America/Managua:20160415T170000
DTEND;TZID=America/Managua:20160415T235500
DTSTAMP:20260422T191035
CREATED:20160301T200049Z
LAST-MODIFIED:20160322T070743Z
UID:2189-1460739600-1460764500@nicasnews.com
SUMMARY:Cóctel Explosivo 2016 con Soulfy
DESCRIPTION:Disfrutá del Cóctel Explosivo 2016 de TN8 Musical y Rock fm que te traen a SOULFLY en Plaza Maya a partir de las 5 pm.\nConmemorando los 25 años de El Expreso Imaginario. \n  \n 
URL:https://nicasnews.com/event/coctel-explosivo-2016-con-soulfy/
LOCATION:Plaza Maya\, Plaza Inter\, Managua\, Managua\, Nicaragua
CATEGORIES:Concierto,EVENTOS,Managua
END:VEVENT
BEGIN:VEVENT
DTSTART;TZID=Africa/Abidjan:20160415T192000
DTEND;TZID=Africa/Abidjan:20160415T220000
DTSTAMP:20260422T191035
CREATED:20160301T200013Z
LAST-MODIFIED:20160322T074237Z
UID:2197-1460748000-1460757600@nicasnews.com
SUMMARY:Il Volo
DESCRIPTION:El aclamado trío masculino Il Volo se presentará en Nicaragua en el mes de abril con dos funciones en la sala mayor del Teatro Nacional Rubén Darío\, esto como parte de su gira “GRANDE AMORE” que será una etapa muy importante en la ascendente y exitosa carrera artística del grupo. \n15 y 16 de Abril a las 7:30 pm\, son las fechas de presentación en Nicaragua y los boletos estarán a la venta a partir del día 19 febrero 2016\, en tiendas am: pm\, oficinas de BLÜ Nicaragua y taquilla del teatro\, los precios de las localidades corresponden a: Platea U$110\, Primer Balcón: U$120\, Segundo Balcón: U$80\, Tercer Balcón: U$40; más cargos por servicios de TiquetEra. \n“Nos complace presentar en Nicaragua a este grupo que está causando sensación en todo el mundo. Creemos que será una gran oportunidad para que la juventud y el público en general disfrute del estilo clásico y pop que caracterizan a Il Volo” dijo Laura Rivas\, gerente de marketing de Claro Nicaragua. \n“Será un gran espectáculo con una producción de alto nivel dedicada al público nicaragüense. Con Claro Club\, Los boletos tendrán el 20 por ciento de descuento enviando la palabra Il Volo a la marcación 500 (Válido hasta el 8 de abril)”\, agregó Rivas. \nGrupo PROMERICA otorgará descuentos para quienes compren sus boletos con tarjetas de crédito y débito BANPRO\, la Lic. Edda Callejas\, gerente de Mercadeo comercial anunció que esta promoción será válida durante la preventa de los boletos que finaliza el 8 de abril. \n  \n 
URL:https://nicasnews.com/event/il-volo/
LOCATION:Teatro Nacional Rubén Darío\, Barrio Ruben Dario\, Managua\, Managua\, Nicaragua
CATEGORIES:Concierto,Managua
END:VEVENT
END:VCALENDAR