BEGIN:VCALENDAR
VERSION:2.0
PRODID:-//Nicas En El Exterior News - ABRIL 2026 - ECPv6.15.17.1//NONSGML v1.0//EN
CALSCALE:GREGORIAN
METHOD:PUBLISH
X-ORIGINAL-URL:https://nicasnews.com
X-WR-CALDESC:Events for Nicas En El Exterior News - ABRIL 2026
REFRESH-INTERVAL;VALUE=DURATION:PT1H
X-Robots-Tag:noindex
X-PUBLISHED-TTL:PT1H
BEGIN:VTIMEZONE
TZID:America/Managua
BEGIN:STANDARD
TZOFFSETFROM:-0600
TZOFFSETTO:-0600
TZNAME:CST
DTSTART:20150101T000000
END:STANDARD
END:VTIMEZONE
BEGIN:VEVENT
DTSTART;TZID=America/Managua:20160326T170000
DTEND;TZID=America/Managua:20160326T210000
DTSTAMP:20260422T144806
CREATED:20160301T200012Z
LAST-MODIFIED:20160322T080613Z
UID:2213-1459011600-1459026000@nicasnews.com
SUMMARY:Movistar Summer Fest Poneloya 2016
DESCRIPTION:  \nJoey Montana – Juan Magan – Aldo Rank\nLa Cuneta son Machin – Dj Victor Magan \nSábado 26 de Marzo\nPeñitas Poneloya\n5:00 PM \nEntrada gratis con una recarga de C$250\nen puntos de recarag autorizados\nen Managua\, León y Chinandega. \n  \n 
URL:https://nicasnews.com/event/movistar-summer-fest-poneloya-2016/
LOCATION:Las Peñitas-Poneloya\, Poneloya\, León\, Nicaragua
CATEGORIES:Concierto,Las Peñitas,León,Nicaragua,Poneloya
END:VEVENT
END:VCALENDAR