BEGIN:VCALENDAR
VERSION:2.0
PRODID:-//Nicas En El Exterior News - ABRIL 2026 - ECPv6.15.17.1//NONSGML v1.0//EN
CALSCALE:GREGORIAN
METHOD:PUBLISH
X-ORIGINAL-URL:https://nicasnews.com
X-WR-CALDESC:Events for Nicas En El Exterior News - ABRIL 2026
REFRESH-INTERVAL;VALUE=DURATION:PT1H
X-Robots-Tag:noindex
X-PUBLISHED-TTL:PT1H
BEGIN:VTIMEZONE
TZID:America/New_York
BEGIN:DAYLIGHT
TZOFFSETFROM:-0500
TZOFFSETTO:-0400
TZNAME:EDT
DTSTART:20180311T070000
END:DAYLIGHT
BEGIN:STANDARD
TZOFFSETFROM:-0400
TZOFFSETTO:-0500
TZNAME:EST
DTSTART:20181104T060000
END:STANDARD
BEGIN:DAYLIGHT
TZOFFSETFROM:-0500
TZOFFSETTO:-0400
TZNAME:EDT
DTSTART:20190310T070000
END:DAYLIGHT
BEGIN:STANDARD
TZOFFSETFROM:-0400
TZOFFSETTO:-0500
TZNAME:EST
DTSTART:20191103T060000
END:STANDARD
BEGIN:DAYLIGHT
TZOFFSETFROM:-0500
TZOFFSETTO:-0400
TZNAME:EDT
DTSTART:20200308T070000
END:DAYLIGHT
BEGIN:STANDARD
TZOFFSETFROM:-0400
TZOFFSETTO:-0500
TZNAME:EST
DTSTART:20201101T060000
END:STANDARD
END:VTIMEZONE
BEGIN:VTIMEZONE
TZID:America/Los_Angeles
BEGIN:DAYLIGHT
TZOFFSETFROM:-0800
TZOFFSETTO:-0700
TZNAME:PDT
DTSTART:20180311T100000
END:DAYLIGHT
BEGIN:STANDARD
TZOFFSETFROM:-0700
TZOFFSETTO:-0800
TZNAME:PST
DTSTART:20181104T090000
END:STANDARD
BEGIN:DAYLIGHT
TZOFFSETFROM:-0800
TZOFFSETTO:-0700
TZNAME:PDT
DTSTART:20190310T100000
END:DAYLIGHT
BEGIN:STANDARD
TZOFFSETFROM:-0700
TZOFFSETTO:-0800
TZNAME:PST
DTSTART:20191103T090000
END:STANDARD
BEGIN:DAYLIGHT
TZOFFSETFROM:-0800
TZOFFSETTO:-0700
TZNAME:PDT
DTSTART:20200308T100000
END:DAYLIGHT
BEGIN:STANDARD
TZOFFSETFROM:-0700
TZOFFSETTO:-0800
TZNAME:PST
DTSTART:20201101T090000
END:STANDARD
END:VTIMEZONE
BEGIN:VEVENT
DTSTART;TZID=America/New_York:20190611T100000
DTEND;TZID=America/New_York:20190611T120000
DTSTAMP:20260421T161505
CREATED:20190603T190012Z
LAST-MODIFIED:20190716T065740Z
UID:52542-1560247200-1560254400@nicasnews.com
SUMMARY:Congreso de Estados Unidos - Audiencia Especial sobre Situación de Nicaragua (11/Junio/2019)
DESCRIPTION:  \nAudiencia Especial sobre Nicaragua en el Congreso de los Estados Unidos.\nLa audiencia tiene como objetivo evaluar la situación de Nicaragua y las posibles opciones de política exterior que el Congreso puede recomendar al Gobierno de los Estados Unidos y a la comunidad internacional. \nLos testigos de la audiencia son: José Miguel Vivanco (Director de las Américas de Human Rights Watch)\, Carlos Ponce\, Ph.D. (Director para América Latina de la Fundación Victims of Communism Memorial) y Félix Maradiaga (Director del Instituto de Estudios Estratégicos y Políticas Públicas). \nCommittee on Foreign Affairs\nLocation: 2172 Rayburn House Office Building\, Washington\, DC 20515\nSubcommittee: Western Hemisphere\, Civilian Security\, and Trade\nCrushing Dissent: The Ongoing Crisis in Nicaragua \nDocuments:\n• Hearing notice\n• Committee Repository \n  \n\n  \nEN VIVO\n\n  \n\n  \n \n\n  \nNOTA: El Congreso de Estados Unidos de América (en inglés: United States Congress)\, es la máxima institución política de dicho país y es el rostro de la política norteamericana. Establecido mediante artículo primero de la Constitución de 1788\, el Congreso es el depositario del poder legislativo de los Estados Unidos y tiene una estructura bicameral\, dividido entre en la Cámara de Representantes (House of Representatives) y el Senado. \n• El Capitolio y el Congreso de los Estados Unidos \nPrincipales líderes: \nNombre – Cargo – Estado – Partido\n• Joe Biden – Vicepresidente de los Estados Unidos y Presidente del Senado- Delaware – Partido Demócrata\n• Paul Ryan – Portavoz (Speaker) de la Cámara de Representantes – Wisconsin – Partido Republicano\n• Harry Reid – Líder de la Mayoría en el Senado – Nevada – Partido Demócrata\n• Nancy Pelosi – Líder de la minoría en la Cámara de los Representantes – California – Partido Demócrata \n\n  \nUnited States Capitol\n \n  \n 
URL:https://nicasnews.com/event/congreso-de-estados-unidos-audiencia-especial-sobre-situacion-de-nicaragua-11junio2019/
LOCATION:United States Capitol\, First St SE\, Washington\, DC\, 20004\, United States
CATEGORIES:2019,District of Columbia,Estados Unidos de América,EVENTOS,Político
ATTACH;FMTTYPE=image/jpeg:https://nicasnews.com/wp-content/uploads/2019/06/20190611.jpg
ORGANIZER;CN="Congreso de Estados Unidos":MAILTO:https://www.house.gov/contact-webmaster
END:VEVENT
BEGIN:VEVENT
DTSTART;TZID=America/Los_Angeles:20190613T180000
DTEND;TZID=America/Los_Angeles:20190613T210000
DTSTAMP:20260421T161505
CREATED:20190601T190006Z
LAST-MODIFIED:20190605T051339Z
UID:52398-1560448800-1560459600@nicasnews.com
SUMMARY:San Gabriel Valley Hispanic Chamber of Commerce – Noche De Inmigración Y Finanzas
DESCRIPTION:  \nNOCHE DE INMIGRACIÓN Y FINANZAS\nCON EL ABOGADO JOSÉ JORDAN Y GUSTAVO VARGAS (EL CHUBIDU)\nCONFERENCIA GRATIS \nAperitivos de Cortesía \n(626) 705-4083 \nwww.SGVHCCCA.org \n  \n\n  \n \n  \n\n  \n  \n \n  \n\n  \n  \n \n  \n 
URL:https://nicasnews.com/event/san-gabriel-valley-hispanic-chamber-of-commerce-noche-de-inmigracion-y-finanzas/
LOCATION:Steven’s Steak & Seafood House\, 5332 Stevens Pl\, Commerce\, CA\, 90040\, United States
CATEGORIES:2019,Comunitario,Estados Unidos de América,EVENTOS,Los Angeles
ATTACH;FMTTYPE=image/jpeg:https://nicasnews.com/wp-content/uploads/2019/06/sgvhcc201906.jpg
END:VEVENT
BEGIN:VEVENT
DTSTART;TZID=America/Los_Angeles:20190627T190000
DTEND;TZID=America/Los_Angeles:20190627T210000
DTSTAMP:20260421T161505
CREATED:20190601T190033Z
LAST-MODIFIED:20190627T205845Z
UID:52886-1561662000-1561669200@nicasnews.com
SUMMARY:Conversatorio Sobre Nicaragua (27/Junio/2019)
DESCRIPTION:  \n\n  \n\n  \n 
URL:https://nicasnews.com/event/conversatorio-sobre-nicaragua-27junio2019/
LOCATION:Ironfire Coworking\, 4195 N Viking Way\, Long Beach\, CA\, 90808\, United States
CATEGORIES:2019,Estados Unidos de América,EVENTOS,Los Angeles,Político
ATTACH;FMTTYPE=image/jpeg:https://nicasnews.com/wp-content/uploads/2019/06/20190627-conversatorio.jpg
ORGANIZER;CN="Nicas Por La Democracia (NPLD)":MAILTO:nicasporlademocracia@gmail.com
END:VEVENT
BEGIN:VEVENT
DTSTART;TZID=America/Los_Angeles:20190628T070000
DTEND;TZID=America/Los_Angeles:20190628T180000
DTSTAMP:20260421T161505
CREATED:20190601T190040Z
LAST-MODIFIED:20190629T030553Z
UID:52910-1561705200-1561744800@nicasnews.com
SUMMARY:49 PERÍODO ORDINARIO DE SESIONES DE LA ASAMBLEA GENERAL (OEA) - Resolución sobre "La situación en Nicaragua" - Sesión de Clausura
DESCRIPTION:  \n\n  \nHora: 16:30 COT (17:30 EDT 21:30 GMT)\nLugar: Plaza Mayor Medellín Convenciones y Exposiciones\nCódigo Postal: 050015 \nAgenda:\nhttp://scm.oas.org/IDMS/ \n#AsambleaOEA #OEAenNicaragua \n  \n\n  \n  \n\n \nOAS – Spanish Audio from OASSPA on Vimeo. \n\n  \n\n  \n  \nResolución sobre “La situación en Nicaragua” aprobada por la Asamblea General\n#AsambleaOEA #OEAenNicaragua\n28 de junio de 2019 \n***El texto de esta resolución no es aún oficial. Ésta es una versión provisional. El texto será oficial cuando la Secretaría de la Asamblea General así lo publique con las notas a pie de página correspondientes*** \nLA ASAMBLEA GENERAL DE LA ORGANIZACIÓN DE LOS ESTADOS AMERICANOS\, \nRECORDANDO las resoluciones del Consejo Permanente CP/RES. 1108 (2172/18)\, “La situación en Nicaragua”\, del 18 de julio de 2018\, y CP/RES. 1109 (2175/18)\, “Grupo de Trabajo para Nicaragua”\, del 2 de agosto de 2018\, y la resolución CP/RES. 1128 (2231/19)\, “La situación en Nicaragua”\, del 21 de mayo de 2019; \nREITERANDO que el respeto a los derechos humanos y las libertades fundamentales; el acceso al poder y su ejercicio con sujeción al Estado de derecho; la celebración de elecciones periódicas\, libres y justas\, basadas en el sufragio universal y secreto como expresión de la soberanía del pueblo; el régimen plural de partidos y organizaciones políticas\, y la separación e independencia de los poderes públicos son elementos esenciales de democracia\, según el artículo 3 de la Carta Democrática Interamericana; \nCONSIDERANDO que el respeto a los derechos sociales y la libertad de expresión y de prensa son componentes fundamentales de la democracia participativa\, según el artículo 4 de la Carta Democrática Interamericana; \nTOMANDO NOTA del proceso de negociación y de los acuerdos alcanzados entre el Gobierno de Nicaragua y la Alianza Cívica por la Justicia y la Democracia; \nRECONOCIENDO que es necesario garantizar las condiciones políticas y sociales adecuadas para promover una reforma electoral integral que permitan asegurar elecciones libres\, justas\, transparentes y legítimas\, de conformidad con estándares internacionales; \nRECONOCIENDO que se ha liberado a un número importante de presos políticos en el contexto de la crisis social y política\, que dio inicio en abril de 2018\, como un paso relevante en el marco de los acuerdos alcanzados en la Mesa de Negociación\, pero lamentando que\, una vez agotado el plazo\, existe información creíble sobre presos políticos aún detenidos y que muchas de las personas liberadas no tienen claridad sobre su situación jurídica;\nDEPLORANDO que\, a la fecha\, el Gobierno de Nicaragua no ha permitido el retorno de la Comisión Interamericana de Derechos Humanos y de sus mecanismos a Nicaragua\, incluido el MESENI\, ni permite el trabajo independiente de organizaciones y defensores de derechos humanos; \nCONDENANDO las limitaciones a la libertad de prensa\, la represión a la manifestación pacífica y los ataques a quienes participan en actos religiosos\, y \nCONSIDERANDO el proceso y los pasos establecidos en los artículos 18\, 19 y 20 de la Carta Democrática Interamericana y la apreciación colectiva en curso sobre la situación en Nicaragua\, \nRESUELVE: \n1. Reiterar la preocupación de la comunidad interamericana por el deterioro de las instituciones democráticas y los derechos humanos en Nicaragua y su apoyo a una solución pacífica a la crisis política que afecta a este país desde hace más de un año. \n2. Instar a la reanudación de la negociación efectiva y de buena fe entre el Gobierno de Nicaragua y la Alianza Cívica por la Justicia y la Democracia y al cumplimiento pleno de los acuerdos alcanzados. \n3. Insistir en la necesidad de que el Gobierno de Nicaragua permita el ingreso de la Comisión Interamericana de Derechos Humanos y sus mecanismos\, así como de otros mecanismos internacionales de derechos humanos. \n4. Reiterar que las violaciones graves a los derechos humanos\, a la libertad de expresión y de prensa en Nicaragua a partir de abril de 2018\, y la falta de avance en reformas electorales que garanticen elecciones libres\, justas\, transparentes y legítimas\, conducen a una alteración del orden constitucional que afecta gravemente el orden democrático en los términos del artículo 20 de la Carta Democrática Interamericana\, que deben seguir siendo analizados. \n5. Instruir al Consejo Permanente a que nombre una comisión que\, en el marco del artículo 20 de la Carta Democrática Interamericana\, realice gestiones diplomáticas al más alto nivel para procurar una solución pacífica y efectiva a la crisis política y social en Nicaragua y que rinda un informe en un plazo máximo de 75 días. \n6. Instruir al Consejo Permanente a que\, recibido el informe de esta comisión\, adopte las medidas que sean necesarias\, incluida\, si es el caso\, la convocatoria a una sesión extraordinaria de la Asamblea General. \nNOTAS A PIE DE PÁGINA \n1. La Delegación de México presentará una nota a pie de página. \n2. El Estado Plurinacional de Bolivia deja constancia de su posición conforme al artículo 1 de la Carta de la Organización de Estados Americanos que establece “Los Estados americanos consagran en esta Carta la organización internacional que han desarrollado para lograr un orden de paz y de justicia\, fomentar su solidaridad\, robustecer su colaboración y defender su soberanía\, su integridad territorial y su independencia. La Organización de los Estados Americanos no tiene más facultades que aquellas que expresamente le confiere la presente Carta\, ninguna de cuyas disposiciones la autoriza a intervenir en asuntos de la jurisdicción interna de los Estados miembros”. Asimismo\, deja claramente establecido que\, de conformidad al artículo 143 de la Carta de la Organización de Estados Americanos la denuncia por parte de un Estado miembro se hace efectiva a los dos años de recibida la misma\, cesando sus efectos respecto del Estado denunciante\, el cual queda sin derechos ni deberes y desligado de cualquier acción y/o decisión de la Organización. El Estado Plurinacional de Bolivia se reserva el derecho de reconocer resoluciones y declaraciones aprobadas con la participación de Estados no miembros. \n***El texto de esta resolución no es aún oficial. Ésta es una versión provisional. El texto será oficial cuando la Secretaría de la Asamblea General así lo publique con las notas a pie de página correspondientes*** \nReferencia: D-014/19 \n  \n 
URL:https://nicasnews.com/event/49-periodo-ordinario-de-sesiones-de-la-asamblea-general-oea-resolucion-sobre-la-situacion-en-nicaragua-sesion-de-clausura/
LOCATION:Plaza Mayor Medellín Convenciones y Exposiciones\, Medellín\, Medellín\, 050015\, Colombia
CATEGORIES:2019,Colombia,EVENTOS,Medellín,Político
ATTACH;FMTTYPE=image/jpeg:https://nicasnews.com/wp-content/uploads/2019/06/20190628-oea.jpg
ORGANIZER;CN="Organizaci%C3%B3n de los Estados Americanos (OEA)":MAILTO:OASPress@oas.org
END:VEVENT
BEGIN:VEVENT
DTSTART;TZID=America/Los_Angeles:20190629T190000
DTEND;TZID=America/Los_Angeles:20190629T230000
DTSTAMP:20260421T161505
CREATED:20190601T190027Z
LAST-MODIFIED:20190627T211715Z
UID:52870-1561834800-1561849200@nicasnews.com
SUMMARY:Cena Vandálica (29/Junio/2019)
DESCRIPTION:  \n\n  \n  \n \n  \n\n  \n  \n\n  \n 
URL:https://nicasnews.com/event/cena-vandalica-29junio2019/
LOCATION:Torrance Masonic Center\, 2326 Cabrillo Ave\, Torrance\, CA\, 90501-3637\, United States
CATEGORIES:2019,Estados Unidos de América,EVENTOS,Los Angeles,Político
ATTACH;FMTTYPE=image/jpeg:https://nicasnews.com/wp-content/uploads/2019/06/20190629-cena-vandalica.jpg
ORGANIZER;CN="Nicas Por La Democracia (NPLD)":MAILTO:nicasporlademocracia@gmail.com
END:VEVENT
BEGIN:VEVENT
DTSTART;TZID=America/Los_Angeles:20190630T120000
DTEND;TZID=America/Los_Angeles:20190630T183000
DTSTAMP:20260421T161505
CREATED:20190601T190040Z
LAST-MODIFIED:20190627T212108Z
UID:52582-1561896000-1561919400@nicasnews.com
SUMMARY:Romería del Rocío 2019 (30/Junio/2019)
DESCRIPTION:  \n\n  \n  \nLa Humilde y Fervorosa\nHermandad de Las Americas de Nuestra Señora del Rocío\nAnuncia:\nEl Rocío USA 2019 – XVI\n  \nMisa a las 12:30 del día\nRecepción siguiendo la Santa Misa y Proceción Anual de Nuestra Imagen de La Virgen del Rocío. \nGracias al Padre Nicaragüense Rociero de Las Americas\,  Jhonny José Guerrero por oficiar la misa en Celebración a La Virgen Maria. \nBeneficio Pro Comedor Parroquia Virgen de Los Remedios\, Quezalguaque\, León\, Nicaragua 💙🇳🇮 \nCon Paella\, Tapas\, Palomas Rojas Flamenco & Ballet Folklórico Flor De Sacuanjoche ❤️ \nEntradas Disponibles al: 818-448-5185\nR.S.V.P. CUPO LIMITADO\n  \n\n  \n  \n \n  \n\n  \n\n  \n 
URL:https://nicasnews.com/event/romeria-del-rocio-2019-30junio2019/
LOCATION:St. Casimir Lithuanian Catholic Church\, 2718 St George St\, Los Angeles\, CA\, 90027\, United States
CATEGORIES:2019,Estados Unidos de América,EVENTOS,Los Angeles,Religioso
ATTACH;FMTTYPE=image/jpeg:https://nicasnews.com/wp-content/uploads/2019/06/20190630-elrocio.jpg
ORGANIZER;CN="Hermandad de Las Americas de Nuestra Se%C3%B1ora del Roc%C3%ADo":MAILTO:elrocio@elrocio.net
END:VEVENT
END:VCALENDAR