BEGIN:VCALENDAR
VERSION:2.0
PRODID:-//Nicas En El Exterior News - ABRIL 2026 - ECPv6.15.17.1//NONSGML v1.0//EN
CALSCALE:GREGORIAN
METHOD:PUBLISH
X-WR-CALNAME:Nicas En El Exterior News - ABRIL 2026
X-ORIGINAL-URL:https://nicasnews.com
X-WR-CALDESC:Events for Nicas En El Exterior News - ABRIL 2026
REFRESH-INTERVAL;VALUE=DURATION:PT1H
X-Robots-Tag:noindex
X-PUBLISHED-TTL:PT1H
BEGIN:VTIMEZONE
TZID:America/Los_Angeles
BEGIN:DAYLIGHT
TZOFFSETFROM:-0800
TZOFFSETTO:-0700
TZNAME:PDT
DTSTART:20180311T100000
END:DAYLIGHT
BEGIN:STANDARD
TZOFFSETFROM:-0700
TZOFFSETTO:-0800
TZNAME:PST
DTSTART:20181104T090000
END:STANDARD
BEGIN:DAYLIGHT
TZOFFSETFROM:-0800
TZOFFSETTO:-0700
TZNAME:PDT
DTSTART:20190310T100000
END:DAYLIGHT
BEGIN:STANDARD
TZOFFSETFROM:-0700
TZOFFSETTO:-0800
TZNAME:PST
DTSTART:20191103T090000
END:STANDARD
BEGIN:DAYLIGHT
TZOFFSETFROM:-0800
TZOFFSETTO:-0700
TZNAME:PDT
DTSTART:20200308T100000
END:DAYLIGHT
BEGIN:STANDARD
TZOFFSETFROM:-0700
TZOFFSETTO:-0800
TZNAME:PST
DTSTART:20201101T090000
END:STANDARD
END:VTIMEZONE
BEGIN:VTIMEZONE
TZID:Europe/Zurich
BEGIN:DAYLIGHT
TZOFFSETFROM:+0100
TZOFFSETTO:+0200
TZNAME:CEST
DTSTART:20180325T010000
END:DAYLIGHT
BEGIN:STANDARD
TZOFFSETFROM:+0200
TZOFFSETTO:+0100
TZNAME:CET
DTSTART:20181028T010000
END:STANDARD
BEGIN:DAYLIGHT
TZOFFSETFROM:+0100
TZOFFSETTO:+0200
TZNAME:CEST
DTSTART:20190331T010000
END:DAYLIGHT
BEGIN:STANDARD
TZOFFSETFROM:+0200
TZOFFSETTO:+0100
TZNAME:CET
DTSTART:20191027T010000
END:STANDARD
BEGIN:DAYLIGHT
TZOFFSETFROM:+0100
TZOFFSETTO:+0200
TZNAME:CEST
DTSTART:20200329T010000
END:DAYLIGHT
BEGIN:STANDARD
TZOFFSETFROM:+0200
TZOFFSETTO:+0100
TZNAME:CET
DTSTART:20201025T010000
END:STANDARD
END:VTIMEZONE
BEGIN:VTIMEZONE
TZID:America/New_York
BEGIN:DAYLIGHT
TZOFFSETFROM:-0500
TZOFFSETTO:-0400
TZNAME:EDT
DTSTART:20180311T070000
END:DAYLIGHT
BEGIN:STANDARD
TZOFFSETFROM:-0400
TZOFFSETTO:-0500
TZNAME:EST
DTSTART:20181104T060000
END:STANDARD
BEGIN:DAYLIGHT
TZOFFSETFROM:-0500
TZOFFSETTO:-0400
TZNAME:EDT
DTSTART:20190310T070000
END:DAYLIGHT
BEGIN:STANDARD
TZOFFSETFROM:-0400
TZOFFSETTO:-0500
TZNAME:EST
DTSTART:20191103T060000
END:STANDARD
BEGIN:DAYLIGHT
TZOFFSETFROM:-0500
TZOFFSETTO:-0400
TZNAME:EDT
DTSTART:20200308T070000
END:DAYLIGHT
BEGIN:STANDARD
TZOFFSETFROM:-0400
TZOFFSETTO:-0500
TZNAME:EST
DTSTART:20201101T060000
END:STANDARD
END:VTIMEZONE
BEGIN:VEVENT
DTSTART;TZID=America/Los_Angeles:20190509T180000
DTEND;TZID=America/Los_Angeles:20190509T213000
DTSTAMP:20260421T192259
CREATED:20190501T190520Z
LAST-MODIFIED:20190509T183707Z
UID:51940-1557424800-1557437400@nicasnews.com
SUMMARY:San Gabriel Valley Hispanic Chamber of Commerce - Update 2019
DESCRIPTION:  \nUPDATE 2019\nMANUEL RAMOS\nSEMINARIO GRATIS PARA EMPRESARIOS Y EMPRENDEDORES\n• Visión para tu negocio 2019-2020\n• Inversión y Expansión\n• Protección contra demandas \nAperitivos de Cortesía \n(626) 705-4083 \nwww.SGVHCCCA.org \n  \n\n  \n \n  \n\n  \n  \n \n  \n 
URL:https://nicasnews.com/event/san-gabriel-valley-hispanic-chamber-of-commerce-update-2019/
LOCATION:Steven’s Steak & Seafood House\, 5332 Stevens Pl\, Commerce\, CA\, 90040\, United States
CATEGORIES:2019,Comunitario,Estados Unidos de América,EVENTOS,Los Angeles
ATTACH;FMTTYPE=image/jpeg:https://nicasnews.com/wp-content/uploads/2019/05/sgvhcc201905.jpg
END:VEVENT
BEGIN:VEVENT
DTSTART;TZID=Europe/Zurich:20190515T143000
DTEND;TZID=Europe/Zurich:20190515T180000
DTSTAMP:20260421T192259
CREATED:20190510T190031Z
LAST-MODIFIED:20190515T172611Z
UID:51976-1557930600-1557943200@nicasnews.com
SUMMARY:Consejo de Derechos Humanos de la ONU - La situación de derechos humanos de Nicaragua será considerada por Examen Periódico Universal (15/Mayo/2019)
DESCRIPTION:  \nLa situación de derechos humanos de Nicaragua será considerada por Examen Periódico Universal\n  \n\n  \n\n  \nNicaragua Review – 33rd Session of Universal Periodic Review (Español)\n\n\n\n\n\n  \n  \n\n  \n  \nInglés \nGINEBRA (10 de mayo 2019) – La situación de derechos humanos en Nicaragua será considerada por tercera vez por el mecanismo del Examen Periódico Universal del Consejo de Derechos Humanos de la ONU (EPU)\, el miércoles 15 de mayo de 2019 que será transmitida en vivo por webcast. \nNicaragua es uno de los 14 Estados que será examinado por el Grupo de Trabajo del EPU en su sesión próxima\, que tendrá lugar del 6 al 17 de mayo.  Las primeras y segundas revisiones del EPU de Nicaragua tuvieron lugar en febrero de 2010 y en mayo de 2014\, respectivamente. \nLos documentos en los que se basa el EPU son: 1) un informe nacional con información presentado por el Estado bajo examinación; 2) una compilación de los informes de expertos y grupos de trabajo independientes conocidos como los Procedimientos Especiales\, los Órganos de los Tratados de derechos humanos\, y otras entidades de las Naciones Unidas; 3) un resumen de la información proporcionada por los actores interesados pertinentes\, incluyendo las instituciones nacionales de derechos humanos\, las organizaciones regionales y las organizaciones no gubernamentales. \nLos tres informes que servirán de base para el examen de Nicaragua el próximo 15 de mayo pueden encontrarse aquí.\nhttps://www.ohchr.org/EN/HRBodies/UPR/Pages/NIindex.aspx \nDónde: Sala XX\, Palacio de las Naciones\, Ginebra\nHora y Fecha: 14.30 – 18.00\, miércoles 15 de mayo (hora de Ginebra\, GMT + 1 hora) \nEl EPU es un mecanismo único que implica la revisión periódica de la situación de derechos humanos de los 193 Estados Miembros de la ONU.  Desde su primera reunión celebrada en abril del 2008\, los 193 Estados miembros de las Naciones Unidas fueron revisados dos veces en el primer y segundo ciclo.  Durante el tercer ciclo del EPU\, se espera que los Estados especifiquen las medidas que han adoptado para aplicar las recomendaciones formuladas en sus exámenes anteriores\, a las que se comprometieron a hacer un seguimiento\, así como a poner de relieve la reciente evolución de los derechos humanos en el país. \nLa delegación de Nicaragua estará presidida por Valdrack Ludwing Jaentschke Whitaker\, Ministro Asesor del Presidente de la República para las Relaciones Internacionales y con el Gran Caribe. \nLas delegaciones que servirán como relatores (“troika”) para el EPU de Nicaragua son: México\, Pakistán y Ruanda. \nSe podrá acceder a la transmisión vía webcast de la sesión en http://webtv.un.org \nLa lista de oradores y las intervenciones que se producirán durante el EPU de Nicaragua estarán disponibles en el EPU Extranet \nEl Grupo de Trabajo del EPU tiene previsto aprobar las recomendaciones de Nicaragua a las 17.30 horas del 17 de mayo.  El Estado examinado podría estar interesado en compartir con ustedes la posición que ha asumido respecto de las recomendaciones que recibió durante el examen.  En ese caso\, las recomendaciones serán compartidas con ustedes con antelación. \nFINAL \nPara más información y solicitudes de los medios\, por favor póngase en contacto con Rolando Gómez al +41 (0) 22 917 9711 o rgomez@ohchr.org \nPara obtener más información sobre el Examen Periódico Universal\, visite el sitio web de la EPU \nConsejo de Derechos Humanos de la ONU\, síguenos en las redes sociales: \nFacebook:https://www.facebook.com/UNHRC\nTwitter:https://twitter.com/UN_HRC\nYouTube: https://www.youtube.com/c/UNHumanRightsCouncil \n  \n  \n\n  \n  \n \n  \n 
URL:https://nicasnews.com/event/consejo-de-derechos-humanos-de-la-onu-la-situacion-de-derechos-humanos-de-nicaragua-sera-considerada-por-examen-periodico-universal-15mayo2019/
LOCATION:Palacio de las Naciones – Palais des Nations\, Avenue de la Paix 14 - 1202\, Genève\, Switzerland
CATEGORIES:2019,EVENTOS,Geneva,Político,Switzerland
ATTACH;FMTTYPE=image/jpeg:https://nicasnews.com/wp-content/uploads/2019/05/naciones-unidas.jpg
ORGANIZER;CN="THE UNITED NATIONS OFFICE AT GENEVA (UNOG)":MAILTO:webmaster@unog.ch
END:VEVENT
BEGIN:VEVENT
DTSTART;TZID=America/New_York:20190521T143000
DTEND;TZID=America/New_York:20190521T163000
DTSTAMP:20260421T192259
CREATED:20190518T190025Z
LAST-MODIFIED:20190521T210307Z
UID:52170-1558449000-1558456200@nicasnews.com
SUMMARY:Organización de los Estados Americanos (OEA) – Consejo Permanente considera situación en Nicaragua (21/Mayo/2019)
DESCRIPTION:Sesión Especial del Consejo Permanente\nMartes\, 21 de Mayo de 2019\nContacto de prensa: Mónica Reyes (MReyes@oas.org). \nQUÉ: Consejo Permanente\, considera “La situación en Nicaragua” a solicitud de la Misión Permanente de Canadá. \nCUÁNDO: Martes 21 de Mayo a las 14:30 EDT (18:30 GMT). \nDÓNDE: Salón Simón Bolívar\nOrganización de los Estados Americanos\n17th & Constitution Ave. NW\nWashington\, D.C 20006 \nCP/INF. 8299/19: Convocatoria – Sesión especial del Consejo Permanente\, en el Salón Libertador Simón Bolivar. \nCP40981s03.doc \n  \nReferencia: AVI-123/19 \n  \n\n  \nConsejo Permanente – Sesión Extraordinaria / Permanent Council – Special Meeting\n\n  \n\n\n \n\n  \n  \n\n  \n  \n\n  \nOrganization of American States\n  \n \n  \n 
URL:https://nicasnews.com/event/organizacion-de-los-estados-americanos-oea-consejo-permanente-considera-situacion-en-nicaragua-21mayo2019/
LOCATION:Organización de los Estados Americanos (OEA) – Salón Simón Bolívar\, 17th & Constitution Ave. NW\, Washington\, DC\, 20006-4499\, United States
CATEGORIES:2019,District of Columbia,Estados Unidos de América,EVENTOS,Político
ATTACH;FMTTYPE=image/jpeg:https://nicasnews.com/wp-content/uploads/2019/05/oea02.jpg
ORGANIZER;CN="Organizaci%C3%B3n de los Estados Americanos (OEA)":MAILTO:OASPress@oas.org
END:VEVENT
BEGIN:VEVENT
DTSTART;TZID=America/Los_Angeles:20190525T120000
DTEND;TZID=America/Los_Angeles:20190525T140000
DTSTAMP:20260421T192259
CREATED:20190501T190029Z
LAST-MODIFIED:20200119T071634Z
UID:52210-1558785600-1558792800@nicasnews.com
SUMMARY:Misa por Nicaragua - Oficiada por el Padre Edwing Román (25/Mayo/2019)
DESCRIPTION:  \n \n  \n 
URL:https://nicasnews.com/event/misa-por-nicaragua-oficiada-por-el-padre-edwin-roman-25mayo2019/
LOCATION:St. Raymond Catholic Church\, 12348 Paramount Blvd\, Downey\, CA\, 90242\, United States
CATEGORIES:2019,Estados Unidos de América,EVENTOS,Los Angeles,Religioso
ATTACH;FMTTYPE=image/jpeg:https://nicasnews.com/wp-content/uploads/2019/05/misa2090525.jpg
ORGANIZER;CN="Nicas Por La Democracia (NPLD)":MAILTO:nicasporlademocracia@gmail.com
END:VEVENT
END:VCALENDAR