BEGIN:VCALENDAR
VERSION:2.0
PRODID:-//Nicas En El Exterior News - ABRIL 2026 - ECPv6.15.17.1//NONSGML v1.0//EN
CALSCALE:GREGORIAN
METHOD:PUBLISH
X-WR-CALNAME:Nicas En El Exterior News - ABRIL 2026
X-ORIGINAL-URL:https://nicasnews.com
X-WR-CALDESC:Events for Nicas En El Exterior News - ABRIL 2026
REFRESH-INTERVAL;VALUE=DURATION:PT1H
X-Robots-Tag:noindex
X-PUBLISHED-TTL:PT1H
BEGIN:VTIMEZONE
TZID:America/Los_Angeles
BEGIN:DAYLIGHT
TZOFFSETFROM:-0800
TZOFFSETTO:-0700
TZNAME:PDT
DTSTART:20160313T100000
END:DAYLIGHT
BEGIN:STANDARD
TZOFFSETFROM:-0700
TZOFFSETTO:-0800
TZNAME:PST
DTSTART:20161106T090000
END:STANDARD
BEGIN:DAYLIGHT
TZOFFSETFROM:-0800
TZOFFSETTO:-0700
TZNAME:PDT
DTSTART:20170312T100000
END:DAYLIGHT
BEGIN:STANDARD
TZOFFSETFROM:-0700
TZOFFSETTO:-0800
TZNAME:PST
DTSTART:20171105T090000
END:STANDARD
BEGIN:DAYLIGHT
TZOFFSETFROM:-0800
TZOFFSETTO:-0700
TZNAME:PDT
DTSTART:20180311T100000
END:DAYLIGHT
BEGIN:STANDARD
TZOFFSETFROM:-0700
TZOFFSETTO:-0800
TZNAME:PST
DTSTART:20181104T090000
END:STANDARD
END:VTIMEZONE
BEGIN:VTIMEZONE
TZID:America/Managua
BEGIN:STANDARD
TZOFFSETFROM:-0600
TZOFFSETTO:-0600
TZNAME:CST
DTSTART:20160101T000000
END:STANDARD
END:VTIMEZONE
BEGIN:VEVENT
DTSTART;TZID=America/Los_Angeles:20170803T200000
DTEND;TZID=America/Los_Angeles:20170806T235500
DTSTAMP:20260425T041541
CREATED:20170801T190037Z
LAST-MODIFIED:20170805T064953Z
UID:42789-1501790400-1502063700@nicasnews.com
SUMMARY:International Costa Maya Festival 2017 - Ambergris Caye Belize
DESCRIPTION:The International Costa Maya Festival is a celebration of the Mundo Maya countries throughout Central America. The first festival was held in 1991 and was called the Sea and Air Festival. All eight Mundo Maya countries (Belize\, Mexico\, Guatemala\, Honduras\, El Salvador\, Nicaragua\, Costa Rica\, and Panama\,) participated. Dancers\, cultural performers\, and musical entertainers from these countries are hosted in San Pedro Town for three days of celebrations. \n  \n \n  \nThe festival is held during the month of August\, and commences on the first Thursday of the month and ends on Saturday with the presentation of an International artist. \nBeginning in 1996 the first ever Reina de la Costa Maya Beauty Pageant is held on the first night of the festival. Contestants from each Central American country compete to offer the best representation of the Central American coast using the categories of cultural costumes\, swimwear and evening gowns. \nEntertainers offer festival goers a wide array of music including Punta\, Reggae\, Soca\, Salsa\, Merengue\, Cumbia\, and traditional Maya music. Cultural presentations are usually presented in the form of theatrical dances. These dances tell of the Mayan culture\, traditions and rich heritage. \nOrganized by a non-profit committee to promote goodwill among Central American countries and to encourage visitors to Belize\, the festival grounds also has booths displaying arts and craft\, games\, clothing\, food\, as well as rides and carnival games for the young and young at heart. \n  \n \n  \nCONCURSANTES:\nMiss Nicaragua Danielle Nicole Hodgson Joseph\, Miss Belize Michelle Estrella Nuñez\, Miss Costa Rica Glennys Medina Segura\, Miss Guatemala Lesly Fernanda Flores Sagastume\, Miss Honduras Kerelyne Isell Campigoti Webster\, Miss Mexico Ximena Cardoso Gutiérrez\, Miss Panama Maria Fernanda Jaspe\, Miss El Salvador Iris Yazmin Guerra. \n  \nMiss Costa Maya 2017 Delegate\n Danielle Hodgson Joseph Miss Nicaragua\nAge: 19 years old\nHeight: 5’8″\nProfession: Marketing & Publication Student\nHobbies: Football\, Volleyball\, Cooking\, Dancing\, & Singing. \nMiss Nicaragua enjoys being sociable\, as it is a great way to make new friends. She also believes that caring for our environment is paramount to protecting\, appreciating\, conserving\, and valuing all that God has put within reach. \n\n                \n\n                \n                    \n                        \n                           Danielle Hodgson Joseph\n\n                            \n                                1 of 4\n                                \n                                    \n                                    \n                                \n                            \n                        \n\n                        \n                            \n                                \n                    \n                        \n                            \n                                \n                            \n                            \n                        \n                    \n                    \n                        \n                            \n                                \n                            \n                            \n                        \n                    \n                    \n                        \n                            \n                                \n                            \n                            \n                        \n                    \n                    \n                        \n                            \n                                \n                            \n                            \n                        \n                    \n                            \n                        \n\n                        \n                            \n                                \n                    \n                        \n                    \n                    \n                        \n                    \n                    \n                        \n                    \n                    \n                        \n                    \n                            \n                        \n\n                    \n\n                \n                \n  \n  \n \n  \n \n  \n 
URL:https://nicasnews.com/event/international-costa-maya-festival-2017-ambergris-caye-belize/
LOCATION:Louis Sylvester Sporting Arena\, San Pedro Town\, Ambergris Caye\, Belize
CATEGORIES:2017,Belize,Concurso,EVENTOS
ATTACH;FMTTYPE=image/jpeg:https://nicasnews.com/wp-content/uploads/2017/08/20170803-2.jpg
END:VEVENT
BEGIN:VEVENT
DTSTART;TZID=America/Managua:20170809T193000
DTEND;TZID=America/Managua:20170809T213000
DTSTAMP:20260425T041541
CREATED:20170801T190031Z
LAST-MODIFIED:20170809T232932Z
UID:42851-1502307000-1502314200@nicasnews.com
SUMMARY:"Misa Campesina" 40 años del éxito Quincho Barrilete en la OTI
DESCRIPTION:El Teatro Nacional Rubén Darío y Camerata Bach presenta “Misa Campesina” 40 años del éxito Quincho Barrilete en la OTI. Con Carlos Mejía Godoy\, Los de Palacagüina y Schola Cantorum Rubén Darío. \nMiércoles 9 de Agosto / Sala Mayor / 7:30 pm. Boletos a la venta en la taquilla del teatro o ingresa en el siguiente enlace para realizar tu compra en línea. \n  \n \n  \n 
URL:https://nicasnews.com/event/misa-campesina-40-anos-del-exito-quincho-barrilete-en-la-oti/
LOCATION:Teatro Nacional Rubén Darío\, Barrio Ruben Dario\, Managua\, Managua\, Nicaragua
CATEGORIES:2017,Concierto,EVENTOS,Musical
ATTACH;FMTTYPE=image/jpeg:https://nicasnews.com/wp-content/uploads/2017/08/20170809.jpg
ORGANIZER;CN="Teatro Nacional Rub%C3%A9n Dar%C3%ADo":MAILTO:teatrorubendario@gmail.com
END:VEVENT
BEGIN:VEVENT
DTSTART;TZID=America/Managua:20170812T190000
DTEND;TZID=America/Managua:20170812T210000
DTSTAMP:20260425T041541
CREATED:20170801T190011Z
LAST-MODIFIED:20170810T002301Z
UID:42865-1502564400-1502571600@nicasnews.com
SUMMARY:DanzaFest Latinoamérica
DESCRIPTION:El Teatro Nacional Rubén Darío presenta “DanzaFest Latinoámerica” con artistas de USA\, El Salvador\, México\, Nicaragua\, Guatemala\, Honduras y Costa Rica. \n  \n 
URL:https://nicasnews.com/event/danzafest-latinoamerica/
LOCATION:Teatro Nacional Rubén Darío\, Barrio Ruben Dario\, Managua\, Managua\, Nicaragua
CATEGORIES:2017,EVENTOS,Managua,Musical,Nicaragua
ATTACH;FMTTYPE=image/jpeg:https://nicasnews.com/wp-content/uploads/2017/08/20170812.jpg
ORGANIZER;CN="Teatro Nacional Rub%C3%A9n Dar%C3%ADo":MAILTO:teatrorubendario@gmail.com
END:VEVENT
BEGIN:VEVENT
DTSTART;TZID=America/Managua:20170823T193000
DTEND;TZID=America/Managua:20170823T210000
DTSTAMP:20260425T041541
CREATED:20170801T190016Z
LAST-MODIFIED:20170809T235550Z
UID:42859-1503516600-1503522000@nicasnews.com
SUMMARY:Canto de Amor a Nicaragua
DESCRIPTION:El Teatro Nacional Rubén Darío presenta “Canto de Amor a Nicaragua” con Carlos y Luis Enrique Mejía Godoy\, Norma Helena Gadea\,  Katia Cardenal\, Luis Pastor\, Juan Solórzano y Carlos “Frijol” Guillén. \n  \n \n  \nTickets disponibles en línea\nPlatea         $10.00\nBalcón I       $12.00\nBalcón II      $9.00\nBalcón III     $7.00 \n  \n 
URL:https://nicasnews.com/event/canto-de-amor-a-nicaragua/
LOCATION:Teatro Nacional Rubén Darío\, Barrio Ruben Dario\, Managua\, Managua\, Nicaragua
CATEGORIES:2017,Concierto,EVENTOS,Managua,Musical,Nicaragua
ATTACH;FMTTYPE=image/jpeg:https://nicasnews.com/wp-content/uploads/2017/08/20170823.jpg
ORGANIZER;CN="Teatro Nacional Rub%C3%A9n Dar%C3%ADo":MAILTO:teatrorubendario@gmail.com
END:VEVENT
BEGIN:VEVENT
DTSTART;TZID=America/Los_Angeles:20170825T160000
DTEND;TZID=America/Los_Angeles:20170825T190000
DTSTAMP:20260425T041541
CREATED:20170801T190015Z
LAST-MODIFIED:20170824T041345Z
UID:43225-1503676800-1503687600@nicasnews.com
SUMMARY:California Liver Research Institute Open House
DESCRIPTION:
URL:https://nicasnews.com/event/california-liver-research-institute-open-house/
LOCATION:California Liver Research Institure\, 301 S. Fair Oaks\, Ste 409\, Pasadena\, CA\, 91105\, United States
CATEGORIES:2017,Estados Unidos de América,EVENTOS,Inauguración,Los Angeles
ATTACH;FMTTYPE=image/jpeg:https://nicasnews.com/wp-content/uploads/2017/08/20170825.jpg
END:VEVENT
END:VCALENDAR