BEGIN:VCALENDAR
VERSION:2.0
PRODID:-//Nicas En El Exterior News - ABRIL 2026 - ECPv6.15.17.1//NONSGML v1.0//EN
CALSCALE:GREGORIAN
METHOD:PUBLISH
X-WR-CALNAME:Nicas En El Exterior News - ABRIL 2026
X-ORIGINAL-URL:https://nicasnews.com
X-WR-CALDESC:Events for Nicas En El Exterior News - ABRIL 2026
REFRESH-INTERVAL;VALUE=DURATION:PT1H
X-Robots-Tag:noindex
X-PUBLISHED-TTL:PT1H
BEGIN:VTIMEZONE
TZID:America/Managua
BEGIN:STANDARD
TZOFFSETFROM:-0600
TZOFFSETTO:-0600
TZNAME:CST
DTSTART:20150101T000000
END:STANDARD
END:VTIMEZONE
BEGIN:VTIMEZONE
TZID:America/Los_Angeles
BEGIN:DAYLIGHT
TZOFFSETFROM:-0800
TZOFFSETTO:-0700
TZNAME:PDT
DTSTART:20150308T100000
END:DAYLIGHT
BEGIN:STANDARD
TZOFFSETFROM:-0700
TZOFFSETTO:-0800
TZNAME:PST
DTSTART:20151101T090000
END:STANDARD
BEGIN:DAYLIGHT
TZOFFSETFROM:-0800
TZOFFSETTO:-0700
TZNAME:PDT
DTSTART:20160313T100000
END:DAYLIGHT
BEGIN:STANDARD
TZOFFSETFROM:-0700
TZOFFSETTO:-0800
TZNAME:PST
DTSTART:20161106T090000
END:STANDARD
BEGIN:DAYLIGHT
TZOFFSETFROM:-0800
TZOFFSETTO:-0700
TZNAME:PDT
DTSTART:20170312T100000
END:DAYLIGHT
BEGIN:STANDARD
TZOFFSETFROM:-0700
TZOFFSETTO:-0800
TZNAME:PST
DTSTART:20171105T090000
END:STANDARD
END:VTIMEZONE
BEGIN:VEVENT
DTSTART;TZID=America/Managua:20160816T183000
DTEND;TZID=America/Managua:20160902T213000
DTSTAMP:20260424T124837
CREATED:20160801T190005Z
LAST-MODIFIED:20160816T114718Z
UID:29511-1471372200-1472851800@nicasnews.com
SUMMARY:Exhibición “Tres Generaciones”
DESCRIPTION:  \nEl salón Darío-Cervantes del Instituto Nicaragüense de Cultura Hispánica (INCH) expondrá las obras de tres generaciones de artistas plásticos nicaragüenses: el pintor Roger Pérez de la Rocha\, de la primera generación de los 60-70\, uno de los fundadores del grupo Praxis; en la segunda generación los pintores Sergio J. Velásquez\, Julio Martínez Castillo y Marvin Campos Chavarría\, y en la tercera generación las pintoras Karla Valle Griffith y Dalila Montealegre. \nLa valiosa exposición lleva el nombre “Tres Generaciones”.  La iniciativa de conformarse como grupo y presentar esta muestra\, surge a partir de la necesidad de crear un colectivo de artistas heterogéneo\, conformado tanto por hombres y mujeres\, afines en la calidad de sus creaciones y en la dirección de los temas que cada uno aborda\, entre toques realistas e hiperrealistas\, por mencionar algunos; además de perseguir un objetivo en común desde el punto de vista de la academia. \nLos artistas\nRóger Pérez de la Rocha\, nació en la ciudad de Managua. Uno de los representantes de la primera generación de artistas modernos de Nicaragua. Fundador del grupo PRAXIS en los años 60 y miembro Fundador de la Unión Nicaragüense de Artistas Plásticos. Desde los años setenta ha representado a Nicaragua en un sinnúmero de exposiciones internacionales de renombre y en Nicaragua\, en todos los espacios culturales. Actualmente es uno de los más brillantes exponentes del Arte Moderno Nicaragüense. \nDalila Montealegre es una pintora nicaragüense. Su obra mayormente realizada en óleo es caracterizada por una tendencia al hiperrealismo\, el gusto por el dibujo y el detalle. Uso de colores sobrios y composiciones con sensibilidad lineal. Ha expuesto en diversos espacios culturales tales como: Teatro Nacional Rubén Darío\, Instituto Nicaragüense de Cultura Hispánica (INCH)\, Galería de Arte Moderno Josefina y Galería Epikentro. \nJulio Martínez Castillo\, ingresó a la Escuela Nacional de Bellas Artes de Managua en 1978. Luego de egresar de dichas escuela 1985\, viajó a Moscú e ingresó al Instituto Superior de Artes Surikov. \nAl finalizar su carrera regresa a Nicaragua y expone sus obras en diferentes espacios culturales de Nicaragua: Teatro Nacional Rubén Darío. Galería Códice\, Galería Josefina\, Galería Epikentro\, INCH entre otros. En el exterior: ha expuesto sus obras en Taiwán\, San Francisco EE.UU.\, Michoacán\, México\, Guatemala con los Rosas Botrán\, entre otros: dos premios obtenidos a nivel nacional a través de la obra Dariana y actualmente se dedica a trabajar en su obra. \nKarla Valle Griffith\, pintora hiperrealista con tendencia hacia el Abstraccionismo ha realizado más de 20 exposiciones colectivas y una personal. Ha expuesto tanto a nivel nacional como internacionalmente. A nivel internacional incluyen en La Antigua Guatemala donde recibió reconocimiento y fue otorgado un premio por la Asociación de Juristas pro Iberoamérica. También participó en la exposición “En el Winwood Art District” de Miami en Art Fusion Galleries. Por ahora se dedica a realizar exposiciones con el objetivo de representar a su país en el exterior. \nSergio J. Velásquez ingresó a la Escuela Nacional de Bellas Artes en el año 1976. Sus obras están presentes en muchas colecciones privadas de nuestro país y en galerías y museos internacionales tales como el Museo Latinoamericano de las Artes en EE.UU.\, Sergio Velásquez es un pintor nicaragüense\, conocido a nivel nacional e internacional por las “Gorditas Nicas” pero el artista ha incursionado en otros géneros como el retrato y el paisajismo. En las pinturas de Sergio Velásquez se identifican tres elementos: la mujer\, el paisaje y la naturaleza que llaman a una identidad nacional. \nEsto es perfecto para expresar la identidad nacional\, viene a ser una especie de sello: Un “Milluumino d’inmnenso poético” (Luz\, plenitud e inmensidad). \nMarvin Campos Chavarría es graduado de la Escuela Nacional de Artes Plásticas (ENAP) “Rodrigo Peñalba” en el año 1987\, en la ciudad de Managua Nicaragua. Recientemente fue seleccionado por Fundación Rozas Botrán de Guatemala para aparecer en el Libro de Arte Contemporáneo Centroamericana “Entre Siglos”\, Guatemala\, (2016). Su obra: “Apocalipsis Ya” fue seleccionada en la II Bienal de Pintura Nicaragüense Fundación  Ortiz -Gurdián\, Managua  Nicaragua\, 1999. En el año 2008 la Universidad Nacional Autónoma de Nicaragua (UNAN-Managua) \, otorga distinción Honor al Mérito en reconocimiento a su labor como artista\, docente y su trabajo cultural\, UNAN-Managua 2008. \nSu  trayectoria artística suma: 100 exposiciones colectivas\, cuatro exposiciones individuales y múltiples publicaciones en revistas culturales. \nDicha muestra se inaugurará el martes 16 de agosto en el salón Darío-Cervantes del Instituto Nicaragüense de Cultura Hispánica (INCH)\, a partir de las 6:30 p.m. y estará en  exhibición hasta el viernes 2 de septiembre de 2016\, de 9:00 a.m.-5:00 p.m.\nLa entrada es totalmente libre y gratuita. \n  \nObra de Sergio Velásquez.\n  \nREFERENCIA: El Nuevo Diario \n  \n 
URL:https://nicasnews.com/event/exhibicion-tres-generaciones/
LOCATION:Instituto Nicaragüense de Cultura Hispánica (INCH)\, De la Primera entrada a Las Colinas\, 7 cuadras Arriba\, Managua\, Managua\, Nicaragua
CATEGORIES:2016,EVENTOS,Exhibición,Managua,Nicaragua
ATTACH;FMTTYPE=image/jpeg:https://nicasnews.com/wp-content/uploads/2016/08/20160816-5.jpg
ORGANIZER;CN="Instituto Nicarag%C3%BCense de Cultura Hisp%C3%A1nica (INCH)":MAILTO:agendacultural@culturahispanica.org.ni
END:VEVENT
BEGIN:VEVENT
DTSTART;TZID=America/Managua:20160825T090000
DTEND;TZID=America/Managua:20161209T180000
DTSTAMP:20260424T124837
CREATED:20160801T190028Z
LAST-MODIFIED:20160827T130935Z
UID:30389-1472115600-1481306400@nicasnews.com
SUMMARY:Exposición “Los Caprichos” de Francisco de Goya
DESCRIPTION:El universo goyesco se toma la FOG\nExposición. La colección “Los Caprichos” de Francisco de Goya reúne un aproximado de 80 grabados que estarán expuestos ante el público nicaragüense hasta diciembre. \nPrecursor de la pintura moderna\, cuyo trabajo precede al Romanticismo\,  Impresionismo\, Expresionismo y Surrealismo\, Francisco de Goya tendrá su espacio en el centro de arte de la Fundación Ortiz Gurdián FOG con la exposición “Los Caprichos”\, la cual se inaugurá el jueves 25 de agosto y estará abierta al público hasta diciembre. \nLa obra de Francisco de Goya es inmensa. Cultivó con excelencia todas las técnicas: el dibujo\, el aguafuerte\, el aguatinta\, la litografía\, así como la acuarela\, y la pintura al fresco y al óleo. Según el caso\, recurrió a múltiples soportes: papel\, plancha de cobre\, piedra caliza\, cartón\, marfil\, mural y lienzo. Desarrolló\, asimismo\, diversidad de géneros pictóricos o temas: retrato y autorretrato\, pintura religiosa\, profana\, mitológica\, alegórica\, social\, histórica y costumbrista. \nLa obra en exhibición –Los Caprichos– revela al Goya grabador y al artista crítico de su época.  \nLos primeros grabados de Goya datan de entre 1778 y 1790\, cuando copia al aguafuerte y al aguatinta dieciséis pinturas de Diego Velázquez. \nAunque se desconoce la fecha exacta en que Goya comenzó a trabajar en la serie de “Los Caprichos”\, es posible que su origen fueran algunos de los bocetos realizados entre 1794 y 1796 en su Álbum A\, también conocido como Álbum de Sanlúcar\, y en el Álbum B o de Sanlúcar-Madrid. \nEl artista concibió inicialmente la serie de “Los Caprichos” como un conjunto de grabados que tituló Sueños\, para lo que realizó 28 dibujos preparatorios de los cuales 11 se encuentran en el Álbum B. El título que el pintor había pensado para la portada era Sueño 1º Idioma universal. Dibujado y grabado por Francisco de Goya. Año 1797. El Autor soñando. Por el título\, estas estampas posiblemente estuvieron inspiradas en la obra Sueños y discursos\, del escritor Francisco de Quevedo. \nLa serie de “Los Caprichos” es una obra que censura los vicios y las debilidades humanas con un lenguaje sarcástico y en ocasiones lleno de fantasía. Los temas de la serie se abordan de forma espontánea\, según los criterios del pintor y\, por tanto\, las estampas no tienen una estructura ni un orden específico. Sin embargo\, la primera mitad de la serie tiene un carácter realista\, mientras que en la segunda se percibe un lenguaje fantástico que\, a veces\, raya en lo absurdo. \nGoya realiza las estampas de “Los Caprichos” trabajando las planchas con aguafuerte que luego afinaba con aguatinta y por último perfeccionaba con punta seca y buril. No dibuja directamente sobre la plancha a la manera de otros artistas como Rembrandt\, sino que realiza dibujos preparatorios para casi todos los grabados. \nLa exposición “Los Caprichos” de Francisco de Goya se presenta como parte del Programa de Cultura de la Fundación Ortiz Gurdián\, con el patrocinio del Grupo Promerica. Estará abierta al público durante los meses de agosto\, septiembre\, octubre\, noviembre y diciembre –en horarios de atención– en Managua.\nEn enero 2017 la muestra se traslada al Centro de Arte Fundación Ortiz Gurdián\, León. \n  \n\n  \n  \nLos horarios de atención son de lunes a viernes\, de 9:00 a.m. a 6:00 p.m. Foto: Melvin Vargas\n  \nLa exposición “Los caprichos de Goya” ya está  abierta al público en el Centro de Arte de la Fundación Ortiz Gurdián\, un espacio para aprender y conocer más sobre la propuesta artística del español Francisco de Goya. \nLas palabras de apertura en el acto de inauguración –el jueves pasado– fueron por parte de Ramiro Norberto Ortiz Gurdián\, del Grupo Promerica\, quien dio una cálida bienvenida a los asistentes y recalcó el valor de seguir inculcando a los más pequeños el valor de las obras universales y motivarlos a desarrollar sus habilidades artísticas. \nEn estas piezas que realizó el artista español Francisco de Goya en el siglo XVII\, durante su vida adulta\, se puede apreciar caricaturas de doble sentido con una postura crítica ante el abuso del poder y están llenas de contenido social\, agregándole un valor artístico impresionante. \nTatiana Torres\, directora del Centro de Arte de la Fundación Ortiz Gurdián\, expresó que el público meta de esta exposición son los jóvenes estudiantes y el propósito de la exposición es brindarles una formación integral y que puedan contar con una cultura general amplia. \nDentro de las actividades que el centro de arte tiene programadas están las visitas guiadas de los estudiantes de secundaria del Colegio Teresiano y el Instituto del Valle con un sinnúmero de dinámicas educativas que permitan que los asistentes logren aprovechar la oportunidad de contemplar estos cuadros. \nTodo el esfuerzo de presentar al público nicaragüense estas magníficas obras del arte universal es posible gracias a Grupo Promerica.  \nEn el evento inaugural también estuvieron presentes Juanita Bermúdez\, la coordinadora del Programa Cultural Fundación Ortiz Gurdián\, y el embajador de España\, Rafael Carranzo García. \nEn esta misma galería ubicada en la planta baja del edificio Málaga en Plaza España\, también se presenta la exposición Tres maestros del arte europeo: Marc Chagall\, Salvador Dalí y Joan Miró. \nLos horarios de atención son de lunes a viernes\, de 9:00 a.m. a 6:00 p.m.\, sin interrupción y los sábados con previa cita. \n  \nREFRENCIAS: \n\nMás cerca de Goya – 27/Agosto/2016 (El Nuevo Diario)\nEl universo goyesco se toma la FOG – 24/Agosto/2016 (El Nuevo Diario)\n\n  \n 
URL:https://nicasnews.com/event/exposicion-los-caprichos-de-francisco-de-goya/
LOCATION:Centro de Arte de la Fundación Ortiz Gurdián\, Planta baja del  Edificio Málaga de Plaza España\, Managua\, Managua\, Nicaragua
CATEGORIES:2016,Cultural,EVENTOS,Exhibición,Managua,Nicaragua
ATTACH;FMTTYPE=image/jpeg:https://nicasnews.com/wp-content/uploads/2016/08/20160825-2.jpg
ORGANIZER;CN="Fundaci%C3%B3n Ortiz Gurdi%C3%A1n":MAILTO:info@fundacionortizgurdian.org
END:VEVENT
BEGIN:VEVENT
DTSTART;TZID=America/Managua:20160906T193000
DTEND;TZID=America/Managua:20160906T213000
DTSTAMP:20260424T124837
CREATED:20160901T190032Z
LAST-MODIFIED:20160906T174932Z
UID:30979-1473190200-1473197400@nicasnews.com
SUMMARY:Concierto Homenaje a Juan Gabriel "Amor Eterno"
DESCRIPTION:El Teatro Nacional Rubén Darío y Camerata Bach presentan Concierto Homenaje a Juan Gabriel “Amor Eterno” Martes 06 de Septiembre / Sala mayor / 7:30 pm. Boletos a la venta en la Taquilla del teatro 2222-7426. \n  \n 
URL:https://nicasnews.com/event/concierto-homenaje-a-juan-gabriel-amor-eterno/
LOCATION:Teatro Nacional Rubén Darío\, Barrio Ruben Dario\, Managua\, Managua\, Nicaragua
CATEGORIES:2016,Concierto,EVENTOS,Managua,Musical,Nicaragua
ATTACH;FMTTYPE=image/jpeg:https://nicasnews.com/wp-content/uploads/2016/09/20160906.jpg
ORGANIZER;CN="Teatro Nacional Rub%C3%A9n Dar%C3%ADo":MAILTO:teatrorubendario@gmail.com
END:VEVENT
BEGIN:VEVENT
DTSTART;TZID=America/Los_Angeles:20160910T080000
DTEND;TZID=America/Los_Angeles:20160911T090000
DTSTAMP:20260424T124837
CREATED:20160830T070025Z
LAST-MODIFIED:20160830T124311Z
UID:30645-1473494400-1473584400@nicasnews.com
SUMMARY:FIESTAS PATRIAS DE CENTROAMÉRICA - Festival y Gran Desfile Patrio
DESCRIPTION:
URL:https://nicasnews.com/event/fiestas-patrias-de-centroamerica-festival-y-gran-desfile-patrio/
LOCATION:Mac Arthur Park\, 2230 W. 6th St.\, Los Angeles\, CA\, 90057\, United States
CATEGORIES:2016,Desfile,Estados Unidos de América,EVENTOS,Festival,Los Angeles
ATTACH;FMTTYPE=image/jpeg:https://nicasnews.com/wp-content/uploads/2016/08/20160910-11.jpg
ORGANIZER;CN="Confederaci%C3%B3n Centro Americana (COFECA)":MAILTO:cofecainfo@gmail.com
END:VEVENT
BEGIN:VEVENT
DTSTART;TZID=America/Los_Angeles:20160911T150000
DTEND;TZID=America/Los_Angeles:20160911T180000
DTSTAMP:20260424T124837
CREATED:20160829T190047Z
LAST-MODIFIED:20160830T105720Z
UID:30603-1473606000-1473616800@nicasnews.com
SUMMARY:MARINA MONCADA - Presentación del libro “Memorias Desplomada”
DESCRIPTION:
URL:https://nicasnews.com/event/marina-moncada-presentacion-del-libro-memorias-desplomada/
LOCATION:Choza 96\, 96 E. Colorado Blvd\, Pasadena\, CA\, 91105\, United States
CATEGORIES:2016,Cultural,Estados Unidos de América,EVENTOS,Los Angeles
ATTACH;FMTTYPE=image/jpeg:https://nicasnews.com/wp-content/uploads/2016/08/20160911-2.jpg
END:VEVENT
BEGIN:VEVENT
DTSTART;TZID=America/Managua:20160917T193000
DTEND;TZID=America/Managua:20160917T213000
DTSTAMP:20260424T124837
CREATED:20160901T190002Z
LAST-MODIFIED:20160916T224655Z
UID:31197-1474140600-1474147800@nicasnews.com
SUMMARY:Flamencas
DESCRIPTION:La Casa de los Mejía Godoy te invita a una noche de Flamenco con baile\, música y buena comida. Bajo la dirección del Profe Heriberto Mercado. \n  \n 
URL:https://nicasnews.com/event/flamencas/
LOCATION:La Casa De Los Mejía Godoy\, Costado Oeste del Hotel Crowne Plaza\, Managua\, Managua\, Nicaragua
CATEGORIES:2016,EVENTOS,Managua,Musical,Nicaragua
ATTACH;FMTTYPE=image/jpeg:https://nicasnews.com/wp-content/uploads/2016/09/20160917.jpg
ORGANIZER;CN="La Casa De Los Mej%C3%ADa Godoy":MAILTO:fmejiago@cablenet.com.ni
END:VEVENT
BEGIN:VEVENT
DTSTART;TZID=America/Managua:20160918T160000
DTEND;TZID=America/Managua:20160918T180000
DTSTAMP:20260424T124837
CREATED:20160901T190041Z
LAST-MODIFIED:20160916T233942Z
UID:31219-1474214400-1474221600@nicasnews.com
SUMMARY:Guachipilín presenta "El Güegüense"
DESCRIPTION:El Justo Rufino Garay y el Teatro de Títeres Guachipilín te invitan a la presentación de “El Güegüense”. El Señor Gobernador Tastuanes se encuentra en crisis económica por lo cual decreta el pago de impuestos obligatorios y manda a llamar al Güegüense\, comerciante prospero de la zona. El Güegüense y sus dos hijos llegan ante la presencia del Gobernador y para librarse del pago de impuestos lo envuelven en sus artimañas. El Güegüense y el Gobernador realizan un trato y contrato: casar a sus hijos Don Forsico y Doña Suche Malinche. Así estos personajes logran sus objetivos: evadir el pago de impuestos y superar la crisis económica. \nPieza teatral autóctona del pacífico nicaragüense. Considerada la raíz de nuestro teatro nacional y es una de las obras dramáticas de origen prehispánico\, junto al Rabinal Achí y Ollantay\, que se conservan en América latina hasta la actualidad. Elevada por la UNESCO a patrimonio oral e intangible de la humanidad en 2005. \nCosto de entrada: C$ 150 \n  \n 
URL:https://nicasnews.com/event/guachipilin-presenta-el-gueguense/
LOCATION:Teatro Justo Rufino Garay\, De la Estatua de Montoya\, 3 cuadras Abajo\, 20 varas al Lago\, contiguo al Parque "Las Palmas"\, Managua\, Managua\, Nicaragua
CATEGORIES:2016,EVENTOS,León,Nicaragua,Teatro
ATTACH;FMTTYPE=image/jpeg:https://nicasnews.com/wp-content/uploads/2016/09/20160918.jpg
ORGANIZER;CN="Teatro de T%C3%ADteres Guachipil%C3%ADn":MAILTO:informacion@guachipilin.org
END:VEVENT
BEGIN:VEVENT
DTSTART;TZID=America/Managua:20160922T190000
DTEND;TZID=America/Managua:20160922T220000
DTSTAMP:20260424T124837
CREATED:20160901T190012Z
LAST-MODIFIED:20160916T231720Z
UID:31207-1474570800-1474581600@nicasnews.com
SUMMARY:Concierto de Orquesta de Guitarras Armando Morales Barillas
DESCRIPTION:La Orquesta de Guitarras Armando Morales Barillas es una agrupación nacida en el año 2005 como una iniciativa de los alumnos de guitarra del Conservatorio de Música de la UPOLI\, en Managua\, Nicaragua. \nEl propósito de la Orquesta es el de promover la guitarra clásica en Nicaragua\, y apoyar a los jóvenes guitarristas. \nLa música que ejecuta la Orquesta Armando Morales se encuentra dentro de los géneros clásico\, popular y nicaragüense. \n  \n 
URL:https://nicasnews.com/event/concierto-de-orquesta-de-guitarras-armando-morales-barillas/
LOCATION:Centro Cultural Pablo Antonio Cuadra\, Rotonda Rubén Darío\, 1 cuadra al Oeste\, 1 cuadra al Sur\, Managua\, Managua\, Nicaragua
CATEGORIES:2016,Concierto,EVENTOS,Managua,Musical,Nicaragua
ATTACH;FMTTYPE=image/jpeg:https://nicasnews.com/wp-content/uploads/2016/09/20160922.jpg
ORGANIZER;CN="Hispamer":MAILTO:mercadeo@hispamer.com.ni
END:VEVENT
BEGIN:VEVENT
DTSTART;TZID=America/Managua:20160924T180000
DTEND;TZID=America/Managua:20160924T210000
DTSTAMP:20260424T124837
CREATED:20160801T190003Z
LAST-MODIFIED:20160924T171625Z
UID:29501-1474740000-1474750800@nicasnews.com
SUMMARY:Aladino\, El Musical
DESCRIPTION:  \nEn conmemoración al 25 aniversario de su fundación\, APROQUEN presenta Aladino\, El Musical este 24 y 25 de septiembre en la sala mayor del Teatro Nacional Rubén Darío. \nUna puesta en escena llena de magia y amor que cuenta con la participación de 200 artistas aficionados y profesionales quienes donan su tiempo y talento\, entre actores\, bailarines\, alumnas de Studio Gimnasio Ilusiones\, músicos\, cantantes\, expertos en escenografía\, vestuario\, ingenieros de sonido y luces. \nNos estaremos trasladando a una ciudad ficticia llamada Agrabah donde hay baile\, danza\, actuación\, canto y muchas sorpresas\, donde una lámpara mágica hará realidad los deseos de Aladino. \nBoletos a la venta en STUDIO-GIMNASIO ILUSIONES\, de los semáforos del Hotel Seminole 2 c. al sur\, 1 c. al oeste\, 1c. al sur\, 1c. al oeste. \nPlatea y Primer balcón: $50\nSegundo balcón: $30\nTercer balcón: $15 \n  \n 
URL:https://nicasnews.com/event/aladino-el-musical/
LOCATION:Teatro Nacional Rubén Darío\, Barrio Ruben Dario\, Managua\, Managua\, Nicaragua
CATEGORIES:2016,EVENTOS,Managua,Musical,Nicaragua
ATTACH;FMTTYPE=image/jpeg:https://nicasnews.com/wp-content/uploads/2016/08/20160824-1.jpg
END:VEVENT
BEGIN:VEVENT
DTSTART;TZID=America/Managua:20160925T180000
DTEND;TZID=America/Managua:20160925T210000
DTSTAMP:20260424T124837
CREATED:20160801T190044Z
LAST-MODIFIED:20160816T112230Z
UID:29509-1474826400-1474837200@nicasnews.com
SUMMARY:Aladino\, El Musical
DESCRIPTION:  \nEn conmemoración al 25 aniversario de su fundación\, APROQUEN presenta Aladino\, El Musical este 24 y 25 de septiembre en la sala mayor del Teatro Nacional Rubén Darío. \nUna puesta en escena llena de magia y amor que cuenta con la participación de 200 artistas aficionados y profesionales quienes donan su tiempo y talento\, entre actores\, bailarines\, alumnas de Studio Gimnasio Ilusiones\, músicos\, cantantes\, expertos en escenografía\, vestuario\, ingenieros de sonido y luces. \nNos estaremos trasladando a una ciudad ficticia llamada Agrabah donde hay baile\, danza\, actuación\, canto y muchas sorpresas\, donde una lámpara mágica hará realidad los deseos de Aladino. \nBoletos a la venta en STUDIO-GIMNASIO ILUSIONES\, de los semáforos del Hotel Seminole 2 c. al sur\, 1 c. al oeste\, 1c. al sur\, 1c. al oeste. \nPlatea y Primer balcón: $50\nSegundo balcón: $30\nTercer balcón: $15 \n  \n 
URL:https://nicasnews.com/event/aladino-el-musical-2/
LOCATION:Teatro Nacional Rubén Darío\, Barrio Ruben Dario\, Managua\, Managua\, Nicaragua
CATEGORIES:2016,EVENTOS,Musical
ATTACH;FMTTYPE=image/jpeg:https://nicasnews.com/wp-content/uploads/2016/08/20160824-1.jpg
END:VEVENT
END:VCALENDAR