BEGIN:VCALENDAR
VERSION:2.0
PRODID:-//Nicas En El Exterior News - ABRIL 2026 - ECPv6.15.17.1//NONSGML v1.0//EN
CALSCALE:GREGORIAN
METHOD:PUBLISH
X-WR-CALNAME:Nicas En El Exterior News - ABRIL 2026
X-ORIGINAL-URL:https://nicasnews.com
X-WR-CALDESC:Events for Nicas En El Exterior News - ABRIL 2026
REFRESH-INTERVAL;VALUE=DURATION:PT1H
X-Robots-Tag:noindex
X-PUBLISHED-TTL:PT1H
BEGIN:VTIMEZONE
TZID:America/Los_Angeles
BEGIN:DAYLIGHT
TZOFFSETFROM:-0800
TZOFFSETTO:-0700
TZNAME:PDT
DTSTART:20150308T100000
END:DAYLIGHT
BEGIN:STANDARD
TZOFFSETFROM:-0700
TZOFFSETTO:-0800
TZNAME:PST
DTSTART:20151101T090000
END:STANDARD
BEGIN:DAYLIGHT
TZOFFSETFROM:-0800
TZOFFSETTO:-0700
TZNAME:PDT
DTSTART:20160313T100000
END:DAYLIGHT
BEGIN:STANDARD
TZOFFSETFROM:-0700
TZOFFSETTO:-0800
TZNAME:PST
DTSTART:20161106T090000
END:STANDARD
BEGIN:DAYLIGHT
TZOFFSETFROM:-0800
TZOFFSETTO:-0700
TZNAME:PDT
DTSTART:20170312T100000
END:DAYLIGHT
BEGIN:STANDARD
TZOFFSETFROM:-0700
TZOFFSETTO:-0800
TZNAME:PST
DTSTART:20171105T090000
END:STANDARD
END:VTIMEZONE
BEGIN:VTIMEZONE
TZID:America/Tijuana
BEGIN:DAYLIGHT
TZOFFSETFROM:-0800
TZOFFSETTO:-0700
TZNAME:PDT
DTSTART:20150308T100000
END:DAYLIGHT
BEGIN:STANDARD
TZOFFSETFROM:-0700
TZOFFSETTO:-0800
TZNAME:PST
DTSTART:20151101T090000
END:STANDARD
BEGIN:DAYLIGHT
TZOFFSETFROM:-0800
TZOFFSETTO:-0700
TZNAME:PDT
DTSTART:20160313T100000
END:DAYLIGHT
BEGIN:STANDARD
TZOFFSETFROM:-0700
TZOFFSETTO:-0800
TZNAME:PST
DTSTART:20161106T090000
END:STANDARD
BEGIN:DAYLIGHT
TZOFFSETFROM:-0800
TZOFFSETTO:-0700
TZNAME:PDT
DTSTART:20170312T100000
END:DAYLIGHT
BEGIN:STANDARD
TZOFFSETFROM:-0700
TZOFFSETTO:-0800
TZNAME:PST
DTSTART:20171105T090000
END:STANDARD
END:VTIMEZONE
BEGIN:VEVENT
DTSTART;TZID=America/Los_Angeles:20160715T170000
DTEND;TZID=America/Los_Angeles:20160715T220000
DTSTAMP:20260423T075135
CREATED:20160701T190004Z
LAST-MODIFIED:20160717T080827Z
UID:22927-1468602000-1468620000@nicasnews.com
SUMMARY:BOXEO: René “Gemelo” Alvarado vs. Jayson “La Maravilla” Velez
DESCRIPTION:  \nGolden Boy Promotions is set to bring an Event of The Year to Fantasy Springs Resort Casino on July 15\, airing live on Estrella TV’s Boxeo Estelar. In the main event\, former WBA Interim Super Light Weight World Champion and Mexican warrior Pablo Cesar “El Demoledor” Cano (29-5-1\, 21 KOs) of Tlanepantla\, Mexico returns to Fantasy Springs Resort Casino to face top welterweight contender KeAndre “The Truth” Gibson (15-0-1\, 7 KOs) of St. Louis\, Mo. in a 10-round welterweight battle sure to bring fireworks to the Coachella Valley. \nPart of the live telecast\, former world title challenger Jayson “La Maravilla” Velez (23-2-1\, 16 KOs) of Juncos\, Puerto Rico will face Nicaraguan warrior and former WBC Silver Featherweight Champion Rene “Gemelo” Alvarado (23-7\, 16 KOs) in a 10-round super featherweight Fight of the Year candidate. \nThe exciting fight card will be in contention as one of the best events of the year as the night promises non-stop action from four top fighters willing to leave it all on the mat on July 15. \nPart of the non-televised undercard and streaming on RingTVLive.com\, Cesar Diaz of Palmdale\, Calif. will make his professional debut in a scheduled four-round super bantamweight fight. Undefeated prospect Rigoberto Hermosillo (5-0-1\, 3 KOs) of Victorville\, Calif. will participate in a six-round featherweight fight and Jhon Leon of Los Angeles will also make his professional debut in a four-round welterweight fight. All opponents will be announced shortly. \n“Watching a great fight live at Fantasy Springs Resort Casino is one of the best ways to celebrate summer\,” said Oscar De La Hoya\, Chairman and CEO of Golden Boy Promotions. “This card on July 15 will pit veteran fighter Cano against rising welterweight contender Gibson in a main event fight that is sure to please and thrill fans. Additionally\, Velez vs. Alvarado will be a can’t-miss event as these two guys give it their all everytime they enter the ring.” \nTickets for the event go on sale\, Friday\, June 10 and are priced at $45\, $35\, and $25.  They can be purchased at the Fantasy Springs Box Office\, by calling (888) 799-3941 or online at fantasyspringsresort53-px.rtrk.com. \nPablo Cesar Cano vs. KeAndre Gibson is a 10-round welterweight fight presented by Golden Boy Promotions and sponsored by Cerveza Tecate\, BORN BOLD. The Boxeo Estelar broadcast will air live on Estrella TV at 10:00 p.m. ET/7:00 p.m. PT. The card will also stream live on EstrellaTV.com and on YouTube via Fenomeno Studios. The RingTVlive.com live stream will begin at approximately 5:00 p.m. PT through 7:00 p.m. \nPablo Cesar “El Demoledor” Cano of Tlalnepantla\, Mexico State\, Mexico is set on demolishing any opponent who stands in his way. No stranger in battling for belts\, Cano is the former WBA Interim Super Lightweight World Champion and NABF Light Welterweight Champion and along his path to world championship gold has fought for the WBA Welterweight World Championship against Paulie “Magic Man” Malignaggi and the vacant WBC Super Lightweight World Championship against Erik “El Terrible” Morales. Staying bust in 2015\, Cano defeated Jorge Silva and Silverio “Chamaco II” Ortiz\, and most recently faced Alan Sanchez in May 2016 at the new Toshiba Plaza in Las Vega\, opening up the Canelo-Khan fight weekend. Now\, Cano will be looking to get back on the winning column as he sets up to face one of the most promising contenders in the welterweight division\, KeAndre Gibson on July 15. \n26-year-old welterweight contender\, KeAndre “The Truth” Gibson\, of Saint Louis\, Mo. who now makes his home in Las Vegas\, is set to have the toughest test of his career thus far when he takes on Mexican warrior Pablo Cesar Cano on July 15. In 2015\, Gibson took on Nicaragua’s Nelson Lara winning the fight via unanimous decision and since then has faced Jorge “Koky” Ramos and Tom “Hitman.” Gibson was last seen in the ring in March 2016 returning to Fantasy Springs Resort Casino for the second time and defeating Hector “Charro Negro” Velazquez via technical decision in the sixth round. Now coming back to Fantasy Springs Resort Casino for the third time\, Gibson will be looking to impress the local crowd with a victory on July 15. \nHailing from Juncos\, Puerto Rico\, 28-year-old Jayson “La Maravilla” Velez has been a fine representative of the Caribbean’s fighting capital since turning professional in 2007. Former owner of the WBC Interim Silver\, WBC FECARBOX and USNBC titles over the years\, Velez has made his mark with victories over the likes of Salvador “Sal II” Sanchez\, Dat “Dat Be Dat” Nguyen and Daniel “Huracan” Ramirez\, as well as a draw in an IBF title bout against Evgeny “El Russo Mexicano” Gradovich. On Nov. 21\, 2015 Velez opened up the pay-per-view telecast of Miguel Cotto vs. Canelo Alvarez against Ronny Rios and suffered his first professional defeat via decision and took on Joseph “Jojo” Diaz Jr. in March 2016 and suffered another loss via decision. Now\, looking for redemption\, Velez will be hungry to get back in the winners column and title race when he takes on one of the toughest fighters coming out of Nicaragua in Rene Alvarado on July 15. \nManagua\, Nicaragua’s Rene “Gemelo” Alvarado comes into the ring with much experience under his belt\, owning several titles over the course of nearly eight years. “Gemelo” has earned the respect from his peers and boxing fans all over the world for his hard-nosed style and willingness to fight all. The 27 year old’s biggest win was the complete stoppage at the ninth-round of current top featherweight contender Robinson “Robin Hood” Castellanos in 2014 which earned him the WBC Silver Featherweight Championship. Alvarado last faced Manuel “Tino” Avila in April 2016\, losing via decision to the rising contender in Los Angeles. Ready for another shot at championship gold\, Alvarado will leave it all in the ring taking on Jayson Velez on July 15. \nCesar Diaz is set to make his exciting professional debut as a new member of the Golden Boy Promotions stable on July 15. A decorated amateur and owner of a 104-11 amateur record\, Diaz won the 2012 Silver Gloves National Championship\, the 2015 Adidas National PAL title\, The Desert Showdown in 2009\, 2013 and 2015\, and several other tournaments. Among the fighters he defeated were 2016 United States Olympians Shakur Stevenson and Carlos Balderas\, as well as Danny Gonzalez. In 2013\, Diaz went to the Junior Olympic regionals and was champion in his weight class\, but due to his citizenship\, he could not move on to the nationals. Undeterred\, Diaz continued to fight\, win and impress\, earning him a USA Boxing number three ranking in the 123-pound weight class. And as his amateur career closes\, he will enter the professional game after compiling a 29-0 amateur record that has seen him go unbeaten since 2013. \nAt 23-years-old\, Rigoberto Hermosillo from Victorville\, Calf. has steadily built his professional resume since turning pro in 2013 with a unanimous decision victory over Allen Nevarez at Fantasy Springs Resort Casino. Since then\, the featherweight prospect has defeated Alejandro Estrada\, Hector Aguilar and Mario Diaz all by knockout. Looking to keep the momentum going\, Hermosillo will be in top shape when he takes on an opponent yet to be announced on his grand return to Fantasy Spring Resort Casino on July 15. \nA stablemate of unbeaten Pablo “The Shark” Rubio\, welterweight Jhon Leon is coached by the respected Rafael Sarabia in Pico Rivera\, and as he approaches his professional debut\, he does so with a lot of expectations on his shoulders thanks to his natural talent\, work ethic\, and determination to one day become a world champion. And given the fact that the Southern California fight scene is hotter than ever\, expect to see the name Jhon Leon featured prominently in the coming years. \n  \n 
URL:https://nicasnews.com/event/boxeo-rene-gemelo-alvarado-vs-jayson-la-maravilla-velez/
LOCATION:Fantasy Springs Resort Casino\, 84-245 Indio Springs Pkwy.\, Indio\, CA\, 92203-3499\, United States
CATEGORIES:Boxeo,Deportes,Estados Unidos de América,EVENTOS
ATTACH;FMTTYPE=image/jpeg:https://nicasnews.com/wp-content/uploads/2016/07/20160715.jpg
END:VEVENT
BEGIN:VEVENT
DTSTART;TZID=America/Los_Angeles:20160713T170000
DTEND;TZID=America/Los_Angeles:20160713T210000
DTSTAMP:20260423T075135
CREATED:20160701T190037Z
LAST-MODIFIED:20160713T232341Z
UID:21715-1468429200-1468443600@nicasnews.com
SUMMARY:The 2016 ESPYS (Excellence in Sports Performance Yearly Awards)
DESCRIPTION:  \nVOTE POR ROMÁN “CHOCHOLATITO” GONZÁLEZ\nCLICK AQUÍ\n\n\nTicket Prices\n$115\, $145\, $150\, $175\, $295\, $350\, $550 \n\nBuy Tickets »\n\nFirst time visiting? Read the Guest Services/FAQ \nHosted by John Cena\nJoin an all-star lineup of top athletes and entertainers as The ESPYS celebrate the best sports stories of the year. \nFans will relive the best plays\, biggest upsets and most outstanding performances as the awards are given out\, including awarding of the Capital One Cup.  Witness touching tributes and inspiring human stories with the famous Arthur Ashe Award\, the Jimmy V Award for Perseverance and other incredible moments. \nBe a part of one of the biggest nights in sports. \n$1 of each ticket purchased will be donated to The V Foundation for Cancer Research.  The ESPYS has long supported The V Foundation\, founded by late basketball coach Jim Valvano after his inspiring 1993 “Don’t Ever Give Up” ESPYS speech. 100% of your donation will go directly to research. Give more if you can – and please never give up on the fight against cancer. \nThe 2016 ESPYS will be televised live on ABC at 5:00PM PST. Doors close at 4:45PM. \n*Artist Line-up subject to change \n\n 
URL:https://nicasnews.com/event/the-2016-espys-excellence-in-sports-performance-yearly-awards/
LOCATION:Microsoft Theater\, 777 Chick Hearn Ct\, Los Angeles\, CA\, 90015\, United States
CATEGORIES:Deportes,Estados Unidos de América,EVENTOS,Los Angeles,Reconocimientos
ATTACH;FMTTYPE=image/jpeg:https://nicasnews.com/wp-content/uploads/2016/07/20160713-2.jpg
END:VEVENT
BEGIN:VEVENT
DTSTART;TZID=America/Los_Angeles:20160423T170000
DTEND;TZID=America/Los_Angeles:20160423T230000
DTSTAMP:20260423T075135
CREATED:20160401T190042Z
LAST-MODIFIED:20160418T172341Z
UID:3593-1461430800-1461452400@nicasnews.com
SUMMARY:Campeonato Mundial Peso Mosca: Román "Chocolatito" González vs. McWilliams Arroyo
DESCRIPTION:» COMPRE SUS BOLETOS AQUÍ « \n\nOVER 10\,000 TICKETS SOLD FOR UNDEFEATED!!\nGennady “GGG” Golovkin\, 34-0 (31KO’s) vs. Dominic Wade\, 18-0-0 (12KO’s)\nCampeonato Mundial Peso Medio\nRomán “Chocolatito” González\, 44-0 (38KO’s) vs. McWilliams Arroyo\, 16-2-0 (14KO’s)\nCampeonato Mundial Peso Mosca\n$30 Seats Already Sold Out!!\n  \nLos Angeles\, CA (March\, 2016) Boxing Superstar\, Unified Middleweight World Champion Gennady “GGG” Golovkin and Consensus #1 Pound-for-Pound Fighter and WBC Flyweight World Champion Román “Chocolatito” González are once again proving to be the hottest ticket in boxing as over 10\,000 tickets have already been purchased for UNDEFEATED\, set for Saturday\, April 23 at The Fabulous Forum. \n“Tickets have been selling fast since we put them on sale less than a month ago and we are on pace to have another complete sell out\,” said Tom Loeffler. “Coming off a sold-out Madison Square Garden on October 17 with over 20\,000 boxing fans\, Gennady is demonstrating once again his ability to headline a sold out event.” \n“All of the ticket prices are selling fast with our $30 seats already sold out and we strongly encourage fans to purchase their tickets quickly.” \nThis is Golovkin’s second fight at The Fabulous Forum and tickets are selling at a much faster pace for this promotion than they did for his debut at the iconic venue on May 16\, 2015 when 12\,732 were in attendance. \nRemaining tickets for the April 23rd event can be purchased through Ticketmaster (Ticketmaster.com\, 1-800-745-3000) and the Forum Box Office. \nBoxing Superstar and Undefeated\, Unified World Middleweight Champion Golovkin\, 34-0 (31KO’s) will defend his titles against Undefeated Mandatory Challenger Dominic Wade\, 18-0 (12KO’s) in the main event at UNDEFEATED. \nCo-featured will be Consensus #1 Pound-For-Pound Fighter and WBC Flyweight World Champion Román “Chocolatito” González\, 44-0 (38KO’s) battling World Ranked Contender McWilliams Arroyo\, 16-2 (14KO’s) of Puerto Rico. \nBoth bouts will be televised Live on HBO World Championship Boxing® beginning at 10:00 p.m. ET/PT. \nGolovkin vs. Wade is promoted by K2 Promotions\, GGG Promotions and in association with TGB Promotions.\nGonzalez vs. McWilliams is presented by K2 Promotions in association with Teiken Promotions and PR Best Boxing Promotions. \n  \n» COMPRE SUS BOLETOS AQUÍ «\n  \n 
URL:https://nicasnews.com/event/campeonato-mundial-peso-mosca-roman-chocolatito-gonzalez-vs-mcwilliams-arroyo/
LOCATION:The Forum\, 3900 W Manchester Blvd\, Inglewood\, CA\, 90305\, United States
CATEGORIES:Boxeo,Los Angeles
ATTACH;FMTTYPE=image/jpeg:https://nicasnews.com/wp-content/uploads/2016/03/k2-promotions201604.jpg
END:VEVENT
BEGIN:VEVENT
DTSTART;TZID=America/Tijuana:20160320T190000
DTEND;TZID=America/Tijuana:20160320T220000
DTSTAMP:20260423T075135
CREATED:20160320T080051Z
LAST-MODIFIED:20160321T020905Z
UID:1543-1458500400-1458511200@nicasnews.com
SUMMARY:Nicaragua vs. México
DESCRIPTION:EN VIVO POR MLB TV\n \nNicaragua vs. México
URL:https://nicasnews.com/event/nicaragua-vs-mexico-2/
LOCATION:Estadio B*Air\, Calzada Cuauhtémoc s/n\, Las Fuentes\, Mexicali\, Baja California Norte\, 21230\, Mexico
CATEGORIES:Beisbol,México
ATTACH;FMTTYPE=image/jpeg:https://nicasnews.com/wp-content/uploads/2016/03/20160318.jpg
END:VEVENT
BEGIN:VEVENT
DTSTART;TZID=America/Tijuana:20160319T180000
DTEND;TZID=America/Tijuana:20160319T220000
DTSTAMP:20260423T075135
CREATED:20160319T190000Z
LAST-MODIFIED:20160320T212929Z
UID:1513-1458410400-1458424800@nicasnews.com
SUMMARY:Nicaragua vs. República Checa
DESCRIPTION:EN VIVO POR MLB TV\n \n  \nNicaragua vs. República Checa\n  \nRESUMEN DEL PARTIDO\n\n \n\n\n \n#8D De esta forma Nicaragua avanzó a la gran final ante México. \nPosted by 8 Deportivo on Sunday\, March 20\, 2016 \n\n\nCortesía 8 Deportivo (Canal 8 de Nicaragua)
URL:https://nicasnews.com/event/nicaragua-vs-republica-checa/
LOCATION:Estadio B*Air\, Calzada Cuauhtémoc s/n\, Las Fuentes\, Mexicali\, Baja California Norte\, 21230\, Mexico
CATEGORIES:Beisbol,México
ATTACH;FMTTYPE=image/jpeg:https://nicasnews.com/wp-content/uploads/2016/03/20160319.jpg
END:VEVENT
BEGIN:VEVENT
DTSTART;TZID=America/Tijuana:20160318T193000
DTEND;TZID=America/Tijuana:20160318T220000
DTSTAMP:20260423T075135
CREATED:20160318T190009Z
LAST-MODIFIED:20160320T080542Z
UID:1525-1458329400-1458338400@nicasnews.com
SUMMARY:Nicaragua vs. México
DESCRIPTION:Excelente duelo nos espera este viernes 18 de marzo para cerrar la actividad del día en el Preclásico Mundial de Béisbol 2016\, cuando la selección de México busque mostrar una mejor imagen a la dejada el día de ayer y así meterse a la gran final por el boleto al Clásico Mundial de Béisbol 2017\, saldrán como favoritos y como los obligados cuando se midan a una novena de Nicaragua que llega muy motivada y que tiene hambre de dar la sorpresa en su visita al Estadio B’Air. \nComo llegan los equipos\nLa selección de México tuvo un partido de debut sumamente complicado\, más difícil de lo que cualquiera se podría imaginar ya que les toco enfrentarse a la República Checa\, que luce como el rival más sencillo del grupo\, las cosas empezaron bien para los mexicanos que se fueron al frente 2-0 desde la primera entrada\, sin embargo eso sería lo único que harían\, los europeos meterían presión con un bombazo pero finalmente la victoria se quedaría en territorio azteca por 2-1\, así que ahora liberados de esa presión de su primer duelo intentarán hacer un mejor papel y llevarse la victoria. \nLa novena de Nicaragua\, por su parte\, también paso muchos problemas en su partido de presentación\, ellos igual salían como favoritos y tampoco parecía que vayan a tener demasiadas complicadas ante Alemania\, pero la historia fue distinta\, los pinoleros lograron igualar a tres en la novena entrada para mandar al alargue\, ya en la décima los teutones se fueron adelante y se perfilaban para la victoria\, pero un doblete de Alex Blandino con dos en base fue suficiente para dejar a su rival en el terreno de juego y avanzar a este partido. \nTanto México como Nicaragua saben de la importancia de este partido\, son dos selecciones de gran calidad y con mucha tradición beisbolera\, aunque la realidad es que la obligación recae sobre el equipo mexicano que de no obtener su boleto sería un gran fracaso\, mientras que los Nicas saben que son las víctimas pero que tienen la calidad suficiente para competir\, así que saldrán por la sorpresa este viernes. \nHora del partido México vs Nicaragua\nEl juego entre México vs Nicaragua se estará disputando en punto de las 20:30\, 8:30 pm\, hora local de Tijuana y hora de la Ciudad de México\, a esa misma hora también arrancará el partido en Managua\, mientras que en los Estados Unidos para la gran comunidad de aficionados el duelo dará comienzo a las 7:30 pm hora del Pacífico y a las 10:30 pm hora del Este\, por lo que ya saben en que horario podrán disfrutar de todo lo que acontezca en este duelo que pondrá a un equipo en la final. \nCanal México vs Nicaragua en VIVO\nLa transmisión del partido Nicaragua vs México en VIVO para la televisión será en exclusiva por el canal de TDN para todo el territorio mexicano por cable\, así como por Canal 6 y Canal 13 del país pinolero\, mientras que en los Estados Unidos abra que consultar la programación\, por internet se podrá ver el juego online gracias a la transmisión que se hará en la página de la MLB de manera gratuita para todo el mundo y por la aplicación de Televisa Deportes para México\, igualmente por las redes sociales se podrá seguir entrada x entrada\, lo mejor que vaya pasando y el score final\, otra opción será escucharlo por la radio. \nMéxico vs Nicaragua en VIVO\nAsí que estamos listos para disfrutar de este partido que luce sumamente emocionante\, son los dos equipos favoritos para llegar a la final así que no sería extraño que los veamos competir en un par de días por el ansiado boleto al Clásico Mundial de Béisbol 2017\, el ganador de este choque tendrá su pase a la final\, mientras que el perdedor tendrá que disputar un juego más buscando llegar a la final. En los pronósticos claramente el conjunto mexicano parte como favorito\, esta en casa y tiene un mejor plantel hombre x hombre\, sin embargo no se vieron nada bien en su presentación\, así que tendrán que mejorar ante unos Nicas que tampoco se vieron del todo bien pero que llegan con la motivación por los cielos. Al concluir el partido los esperamos con el score final\, las repetición de las mejores jugadas y el resumen del juego. México vs Nicaragua. \nMéxico vs Nicaragua ¡EN VIVO! Hora y Canal Semifinal Preclásico Mundial de Béisbol 2016 \nEN VIVO POR MLB TV\n/iframe>\n \n  \nNicaragua vs. México
URL:https://nicasnews.com/event/nicaragua-vs-mexico/
LOCATION:Estadio B*Air\, Calzada Cuauhtémoc s/n\, Las Fuentes\, Mexicali\, Baja California Norte\, 21230\, Mexico
CATEGORIES:Beisbol,México
ATTACH;FMTTYPE=image/jpeg:https://nicasnews.com/wp-content/uploads/2016/03/20160318.jpg
END:VEVENT
BEGIN:VEVENT
DTSTART;TZID=America/Tijuana:20160317T183000
DTEND;TZID=America/Tijuana:20160317T220000
DTSTAMP:20260423T075135
CREATED:20160317T190057Z
LAST-MODIFIED:20160320T080229Z
UID:1529-1458239400-1458252000@nicasnews.com
SUMMARY:Nicaragua vs. Alemania
DESCRIPTION:Inicia el WBCQ en Mexicali:\nLlegó la fecha\, el béisbol mexicano sigue de fiesta\, en punto de las 18:30 hrs. (hora local) dará inicio la Ceremonia inaugural del World Baseball Classic Qualifier en el Estadio B*Air de Mexicali\, Baja California. \nEn México\, la afición al Rey de los Deportes estará a la expectativa con la esperanza de que la selección nacional logre al final del evento su calificación al clasico mundial del próximo año\, con un equipo capitaneado por el “bigleaguer” Adrian Gonzalez y bajo el mando del actual Manager del Año en LMP\, Edgar Gonzalez. \nEl grito de playball esta programado para las 20:30 hrs.\, tiempo de la capital bajacaliforniana y su transmisión a México será por la cadena TDN\, presente en todos los sistemas de paga en la república. \nEN VIVO POR MLB TV\n\n  \nNicaragua vs. Alemania
URL:https://nicasnews.com/event/nicaragua-vs-alemania/
LOCATION:Estadio B*Air\, Calzada Cuauhtémoc s/n\, Las Fuentes\, Mexicali\, Baja California Norte\, 21230\, Mexico
CATEGORIES:Beisbol,México
ATTACH;FMTTYPE=image/jpeg:https://nicasnews.com/wp-content/uploads/2016/03/20160317.jpg
END:VEVENT
END:VCALENDAR