BEGIN:VCALENDAR
VERSION:2.0
PRODID:-//Nicas En El Exterior News - ABRIL 2026 - ECPv6.15.17.1//NONSGML v1.0//EN
CALSCALE:GREGORIAN
METHOD:PUBLISH
X-ORIGINAL-URL:https://nicasnews.com
X-WR-CALDESC:Events for Nicas En El Exterior News - ABRIL 2026
REFRESH-INTERVAL;VALUE=DURATION:PT1H
X-Robots-Tag:noindex
X-PUBLISHED-TTL:PT1H
BEGIN:VTIMEZONE
TZID:America/New_York
BEGIN:DAYLIGHT
TZOFFSETFROM:-0500
TZOFFSETTO:-0400
TZNAME:EDT
DTSTART:20200308T070000
END:DAYLIGHT
BEGIN:STANDARD
TZOFFSETFROM:-0400
TZOFFSETTO:-0500
TZNAME:EST
DTSTART:20201101T060000
END:STANDARD
BEGIN:DAYLIGHT
TZOFFSETFROM:-0500
TZOFFSETTO:-0400
TZNAME:EDT
DTSTART:20210314T070000
END:DAYLIGHT
BEGIN:STANDARD
TZOFFSETFROM:-0400
TZOFFSETTO:-0500
TZNAME:EST
DTSTART:20211107T060000
END:STANDARD
BEGIN:DAYLIGHT
TZOFFSETFROM:-0500
TZOFFSETTO:-0400
TZNAME:EDT
DTSTART:20220313T070000
END:DAYLIGHT
BEGIN:STANDARD
TZOFFSETFROM:-0400
TZOFFSETTO:-0500
TZNAME:EST
DTSTART:20221106T060000
END:STANDARD
END:VTIMEZONE
BEGIN:VEVENT
DTSTART;TZID=America/New_York:20210516T200000
DTEND;TZID=America/New_York:20210516T233000
DTSTAMP:20260420T014237
CREATED:20210517T030052Z
LAST-MODIFIED:20210601T180911Z
UID:59342-1621195200-1621207800@nicasnews.com
SUMMARY:Ana Marcelo (Miss Nicaragua) en Miss Universo 2020
DESCRIPTION:  \nMiss Universe 2020\nThe 69th Miss Universe pageant\, was held on May 16\, 2021 at Seminole Hard Rock Hotel & Casino in Hollywood\, Florida\, United States. \n \nContestants from 74 countries and territories competed. The competition was hosted by Mario Lopez and Olivia Culpo; Lopez last served as host during Miss Universe 2007\, while Culpo was crowned Miss Universe 2012. \nPaulina Vega and Demi-Leigh Tebow will serve as expert analysts\, and Cheslie Kryst served as a backstage correspondent; they had previously been crowned as Miss Universe 2014\, Miss Universe 2017\, and Miss USA 2019\, respectively. Puerto Rican singer Luis Fonsi performed. \n  \n\n\nMISS UNIVERSO 2020 (VIDEO COMPLETO) \n \n  \n  \n\n  \n  \n\n\n\n\n Miss Universo 2020 – Competencia Preliminar\n(Desfile en Traje de Baño y Gala)\n \n\n\n\n Miss Universo 2020 – Competencia Preliminar\n(Las Nuestras)\n \n\n\n\n\n\n  \n \n  \n\n  \n \n  \n 
URL:https://nicasnews.com/event/ana-marcelo-miss-nicaragua-en-miss-universo-2020/
LOCATION:Seminole Hard Rock Hotel & Casino\, 1 Seminole Way\, Davie\, FL\, 33314\, United States
CATEGORIES:2021,Concurso,EVENTOS,Featured
ATTACH;FMTTYPE=image/jpeg:https://nicasnews.com/wp-content/uploads/2021/05/20210516.jpg
ORGANIZER;CN="Miss Universe Organization (MUO)":MAILTO:MOMECENE@ENDEAVORCO.COM
END:VEVENT
END:VCALENDAR