BEGIN:VCALENDAR
VERSION:2.0
PRODID:-//Nicas En El Exterior News - ABRIL 2026 - ECPv6.15.17.1//NONSGML v1.0//EN
CALSCALE:GREGORIAN
METHOD:PUBLISH
X-WR-CALNAME:Nicas En El Exterior News - ABRIL 2026
X-ORIGINAL-URL:https://nicasnews.com
X-WR-CALDESC:Events for Nicas En El Exterior News - ABRIL 2026
REFRESH-INTERVAL;VALUE=DURATION:PT1H
X-Robots-Tag:noindex
X-PUBLISHED-TTL:PT1H
BEGIN:VTIMEZONE
TZID:America/Los_Angeles
BEGIN:DAYLIGHT
TZOFFSETFROM:-0800
TZOFFSETTO:-0700
TZNAME:PDT
DTSTART:20180311T100000
END:DAYLIGHT
BEGIN:STANDARD
TZOFFSETFROM:-0700
TZOFFSETTO:-0800
TZNAME:PST
DTSTART:20181104T090000
END:STANDARD
BEGIN:DAYLIGHT
TZOFFSETFROM:-0800
TZOFFSETTO:-0700
TZNAME:PDT
DTSTART:20190310T100000
END:DAYLIGHT
BEGIN:STANDARD
TZOFFSETFROM:-0700
TZOFFSETTO:-0800
TZNAME:PST
DTSTART:20191103T090000
END:STANDARD
BEGIN:DAYLIGHT
TZOFFSETFROM:-0800
TZOFFSETTO:-0700
TZNAME:PDT
DTSTART:20200308T100000
END:DAYLIGHT
BEGIN:STANDARD
TZOFFSETFROM:-0700
TZOFFSETTO:-0800
TZNAME:PST
DTSTART:20201101T090000
END:STANDARD
END:VTIMEZONE
BEGIN:VEVENT
DTSTART;TZID=America/Los_Angeles:20190925T160000
DTEND;TZID=America/Los_Angeles:20190925T190000
DTSTAMP:20260422T014721
CREATED:20190924T070010Z
LAST-MODIFIED:20190926T050856Z
UID:54766-1569427200-1569438000@nicasnews.com
SUMMARY:JONATHAN LOÁISIGA (2-1) NY Yankees vs Tampa Bay Rays (25/Septiembre/2019)
DESCRIPTION:  \n\nJonathan Loáisiga #38\n\nP • B/T: R/R • 5′ 11″ / 165lbs. • Age: 23\n\n\n  \n\nNew York Yankees Recaps\nSeptiembre/25: Yankees vs Rays\n \n  \n\nGAMEDAY BOXSCORE\n \n\n  \nTROPICANA FIELD\n\n  \n\n  \n \n  \n 
URL:https://nicasnews.com/event/jonathan-loaisiga-2-1-ny-yankees-vs-tampa-bay-rays-25septiembre2019/
LOCATION:Tropicana Field\, 1 Tropicana Dr.\, St. Petersburg\, FL\, 33705\, United States
CATEGORIES:2019,Beisbol,Deportes
ATTACH;FMTTYPE=image/jpeg:https://nicasnews.com/wp-content/uploads/2019/09/jonathan-loaisiga03018.jpg
ORGANIZER;CN="Major League Baseball (MLB)":MAILTO:mlbexecutiverelations@website.mlb.com
END:VEVENT
END:VCALENDAR